Workbook
Name Export_Studio_Light: Rohdaten!$A$1:$KK$256

Sheet Auswertung
A1: f | B1: magnitude | C1: phase | D1: Listening Window 9 | E1: Listening Window 5 | F1: Early Reflections 8 | G1: Airiness | H1: Sound Power | I1: DI Early [Window] | J1: DI [Window]
A2: [Hz] | B2: [dB] | C2: [deg] | D2: [dB] | E2: [dB] | F2: [dB] | G2: [dB] | H2: [dB]
A3: =Rohdaten!A7 -> 20 | B3: =Rohdaten!B7 -> 49.657 | C3: =Rohdaten!C7 -> -119.3 | D3: =AVERAGE(Rohdaten!B7,Rohdaten!BT7,Rohdaten!BP7,Rohdaten!BN7,Rohdaten!CB7,Rohdaten!CF7,Rohdaten!CJ7,Rohdaten!HJ7,Rohdaten!HR7) -> 49.655556 | E3: =AVERAGE(Rohdaten!HH7,Rohdaten!HT7,Rohdaten!BR7,Rohdaten!BX7,Rohdaten!CD7) -> 49.6542 | F3: =AVERAGE(Rohdaten!IH7,Rohdaten!GT7,Rohdaten!DD7,Rohdaten!CV7,Rohdaten!CN7,Rohdaten!BH7,Rohdaten!AZ7,Rohdaten!AR7) -> 49.64675 | G3: =AVERAGE(Rohdaten!IH7,Rohdaten!BD7,Rohdaten!CR7) -> 49.65 | H3: =Rohdaten!KJ7 -> 49.65 | I3: =D3-F3 -> 0.0088055556 | J3: =D3-H3 -> 0.0055555556
A4: =Rohdaten!A8 -> 20.563 | B4: =Rohdaten!B8 -> 50.405 | C4: =Rohdaten!C8 -> -120.2 | D4: =AVERAGE(Rohdaten!B8,Rohdaten!BT8,Rohdaten!BP8,Rohdaten!BN8,Rohdaten!CB8,Rohdaten!CF8,Rohdaten!CJ8,Rohdaten!HJ8,Rohdaten!HR8) -> 50.404 | E4: =AVERAGE(Rohdaten!HH8,Rohdaten!HT8,Rohdaten!BR8,Rohdaten!BX8,Rohdaten!CD8) -> 50.4028 | F4: =AVERAGE(Rohdaten!IH8,Rohdaten!GT8,Rohdaten!DD8,Rohdaten!CV8,Rohdaten!CN8,Rohdaten!BH8,Rohdaten!AZ8,Rohdaten!AR8) -> 50.39525 | G4: =AVERAGE(Rohdaten!IH8,Rohdaten!BD8,Rohdaten!CR8) -> 50.398333 | H4: =Rohdaten!KJ8 -> 50.398 | I4: =D4-F4 -> 0.00875 | J4: =D4-H4 -> 0.006
A5: =Rohdaten!A9 -> 21.141 | B5: =Rohdaten!B9 -> 51.155 | C5: =Rohdaten!C9 -> -121.2 | D5: =AVERAGE(Rohdaten!B9,Rohdaten!BT9,Rohdaten!BP9,Rohdaten!BN9,Rohdaten!CB9,Rohdaten!CF9,Rohdaten!CJ9,Rohdaten!HJ9,Rohdaten!HR9) -> 51.154 | E5: =AVERAGE(Rohdaten!HH9,Rohdaten!HT9,Rohdaten!BR9,Rohdaten!BX9,Rohdaten!CD9) -> 51.1528 | F5: =AVERAGE(Rohdaten!IH9,Rohdaten!GT9,Rohdaten!DD9,Rohdaten!CV9,Rohdaten!CN9,Rohdaten!BH9,Rohdaten!AZ9,Rohdaten!AR9) -> 51.14425 | G5: =AVERAGE(Rohdaten!IH9,Rohdaten!BD9,Rohdaten!CR9) -> 51.148 | H5: =Rohdaten!KJ9 -> 51.148 | I5: =D5-F5 -> 0.00975 | J5: =D5-H5 -> 0.006
A6: =Rohdaten!A10 -> 21.736 | B6: =Rohdaten!B10 -> 51.906 | C6: =Rohdaten!C10 -> -122.2 | D6: =AVERAGE(Rohdaten!B10,Rohdaten!BT10,Rohdaten!BP10,Rohdaten!BN10,Rohdaten!CB10,Rohdaten!CF10,Rohdaten!CJ10,Rohdaten!HJ10,Rohdaten!HR10) -> 51.905 | E6: =AVERAGE(Rohdaten!HH10,Rohdaten!HT10,Rohdaten!BR10,Rohdaten!BX10,Rohdaten!CD10) -> 51.9038 | F6: =AVERAGE(Rohdaten!IH10,Rohdaten!GT10,Rohdaten!DD10,Rohdaten!CV10,Rohdaten!CN10,Rohdaten!BH10,Rohdaten!AZ10,Rohdaten!AR10) -> 51.89475 | G6: =AVERAGE(Rohdaten!IH10,Rohdaten!BD10,Rohdaten!CR10) -> 51.898333 | H6: =Rohdaten!KJ10 -> 51.898 | I6: =D6-F6 -> 0.01025 | J6: =D6-H6 -> 0.007
A7: =Rohdaten!A11 -> 22.347 | B7: =Rohdaten!B11 -> 52.659 | C7: =Rohdaten!C11 -> -123.2 | D7: =AVERAGE(Rohdaten!B11,Rohdaten!BT11,Rohdaten!BP11,Rohdaten!BN11,Rohdaten!CB11,Rohdaten!CF11,Rohdaten!CJ11,Rohdaten!HJ11,Rohdaten!HR11) -> 52.657222 | E7: =AVERAGE(Rohdaten!HH11,Rohdaten!HT11,Rohdaten!BR11,Rohdaten!BX11,Rohdaten!CD11) -> 52.656 | F7: =AVERAGE(Rohdaten!IH11,Rohdaten!GT11,Rohdaten!DD11,Rohdaten!CV11,Rohdaten!CN11,Rohdaten!BH11,Rohdaten!AZ11,Rohdaten!AR11) -> 52.646375 | G7: =AVERAGE(Rohdaten!IH11,Rohdaten!BD11,Rohdaten!CR11) -> 52.65 | H7: =Rohdaten!KJ11 -> 52.649 | I7: =D7-F7 -> 0.010847222 | J7: =D7-H7 -> 0.0082222222
A8: =Rohdaten!A12 -> 22.976 | B8: =Rohdaten!B12 -> 53.412 | C8: =Rohdaten!C12 -> -124.3 | D8: =AVERAGE(Rohdaten!B12,Rohdaten!BT12,Rohdaten!BP12,Rohdaten!BN12,Rohdaten!CB12,Rohdaten!CF12,Rohdaten!CJ12,Rohdaten!HJ12,Rohdaten!HR12) -> 53.410444 | E8: =AVERAGE(Rohdaten!HH12,Rohdaten!HT12,Rohdaten!BR12,Rohdaten!BX12,Rohdaten!CD12) -> 53.4092 | F8: =AVERAGE(Rohdaten!IH12,Rohdaten!GT12,Rohdaten!DD12,Rohdaten!CV12,Rohdaten!CN12,Rohdaten!BH12,Rohdaten!AZ12,Rohdaten!AR12) -> 53.39925 | G8: =AVERAGE(Rohdaten!IH12,Rohdaten!BD12,Rohdaten!CR12) -> 53.403 | H8: =Rohdaten!KJ12 -> 53.402 | I8: =D8-F8 -> 0.011194444 | J8: =D8-H8 -> 0.0084444444
A9: =Rohdaten!A13 -> 23.622 | B9: =Rohdaten!B13 -> 54.167 | C9: =Rohdaten!C13 -> -125.4 | D9: =AVERAGE(Rohdaten!B13,Rohdaten!BT13,Rohdaten!BP13,Rohdaten!BN13,Rohdaten!CB13,Rohdaten!CF13,Rohdaten!CJ13,Rohdaten!HJ13,Rohdaten!HR13) -> 54.165111 | E9: =AVERAGE(Rohdaten!HH13,Rohdaten!HT13,Rohdaten!BR13,Rohdaten!BX13,Rohdaten!CD13) -> 54.164 | F9: =AVERAGE(Rohdaten!IH13,Rohdaten!GT13,Rohdaten!DD13,Rohdaten!CV13,Rohdaten!CN13,Rohdaten!BH13,Rohdaten!AZ13,Rohdaten!AR13) -> 54.153375 | G9: =AVERAGE(Rohdaten!IH13,Rohdaten!BD13,Rohdaten!CR13) -> 54.158 | H9: =Rohdaten!KJ13 -> 54.155 | I9: =D9-F9 -> 0.011736111 | J9: =D9-H9 -> 0.010111111
A10: =Rohdaten!A14 -> 24.287 | B10: =Rohdaten!B14 -> 54.923 | C10: =Rohdaten!C14 -> -126.6 | D10: =AVERAGE(Rohdaten!B14,Rohdaten!BT14,Rohdaten!BP14,Rohdaten!BN14,Rohdaten!CB14,Rohdaten!CF14,Rohdaten!CJ14,Rohdaten!HJ14,Rohdaten!HR14) -> 54.920778 | E10: =AVERAGE(Rohdaten!HH14,Rohdaten!HT14,Rohdaten!BR14,Rohdaten!BX14,Rohdaten!CD14) -> 54.9196 | F10: =AVERAGE(Rohdaten!IH14,Rohdaten!GT14,Rohdaten!DD14,Rohdaten!CV14,Rohdaten!CN14,Rohdaten!BH14,Rohdaten!AZ14,Rohdaten!AR14) -> 54.90875 | G10: =AVERAGE(Rohdaten!IH14,Rohdaten!BD14,Rohdaten!CR14) -> 54.913 | H10: =Rohdaten!KJ14 -> 54.91 | I10: =D10-F10 -> 0.012027778 | J10: =D10-H10 -> 0.010777778
A11: =Rohdaten!A15 -> 24.97 | B11: =Rohdaten!B15 -> 55.68 | C11: =Rohdaten!C15 -> -127.8 | D11: =AVERAGE(Rohdaten!B15,Rohdaten!BT15,Rohdaten!BP15,Rohdaten!BN15,Rohdaten!CB15,Rohdaten!CF15,Rohdaten!CJ15,Rohdaten!HJ15,Rohdaten!HR15) -> 55.677778 | E11: =AVERAGE(Rohdaten!HH15,Rohdaten!HT15,Rohdaten!BR15,Rohdaten!BX15,Rohdaten!CD15) -> 55.6766 | F11: =AVERAGE(Rohdaten!IH15,Rohdaten!GT15,Rohdaten!DD15,Rohdaten!CV15,Rohdaten!CN15,Rohdaten!BH15,Rohdaten!AZ15,Rohdaten!AR15) -> 55.664875 | G11: =AVERAGE(Rohdaten!IH15,Rohdaten!BD15,Rohdaten!CR15) -> 55.669667 | H11: =Rohdaten!KJ15 -> 55.666 | I11: =D11-F11 -> 0.012902778 | J11: =D11-H11 -> 0.011777778
A12: =Rohdaten!A16 -> 25.672 | B12: =Rohdaten!B16 -> 56.438 | C12: =Rohdaten!C16 -> -129.1 | D12: =AVERAGE(Rohdaten!B16,Rohdaten!BT16,Rohdaten!BP16,Rohdaten!BN16,Rohdaten!CB16,Rohdaten!CF16,Rohdaten!CJ16,Rohdaten!HJ16,Rohdaten!HR16) -> 56.436 | E12: =AVERAGE(Rohdaten!HH16,Rohdaten!HT16,Rohdaten!BR16,Rohdaten!BX16,Rohdaten!CD16) -> 56.4346 | F12: =AVERAGE(Rohdaten!IH16,Rohdaten!GT16,Rohdaten!DD16,Rohdaten!CV16,Rohdaten!CN16,Rohdaten!BH16,Rohdaten!AZ16,Rohdaten!AR16) -> 56.422375 | G12: =AVERAGE(Rohdaten!IH16,Rohdaten!BD16,Rohdaten!CR16) -> 56.427667 | H12: =Rohdaten!KJ16 -> 56.424 | I12: =D12-F12 -> 0.013625 | J12: =D12-H12 -> 0.012
A13: =Rohdaten!A17 -> 26.394 | B13: =Rohdaten!B17 -> 57.198 | C13: =Rohdaten!C17 -> -130.4 | D13: =AVERAGE(Rohdaten!B17,Rohdaten!BT17,Rohdaten!BP17,Rohdaten!BN17,Rohdaten!CB17,Rohdaten!CF17,Rohdaten!CJ17,Rohdaten!HJ17,Rohdaten!HR17) -> 57.195222 | E13: =AVERAGE(Rohdaten!HH17,Rohdaten!HT17,Rohdaten!BR17,Rohdaten!BX17,Rohdaten!CD17) -> 57.1938 | F13: =AVERAGE(Rohdaten!IH17,Rohdaten!GT17,Rohdaten!DD17,Rohdaten!CV17,Rohdaten!CN17,Rohdaten!BH17,Rohdaten!AZ17,Rohdaten!AR17) -> 57.181 | G13: =AVERAGE(Rohdaten!IH17,Rohdaten!BD17,Rohdaten!CR17) -> 57.186667 | H13: =Rohdaten!KJ17 -> 57.182 | I13: =D13-F13 -> 0.014222222 | J13: =D13-H13 -> 0.013222222
A14: =Rohdaten!A18 -> 27.137 | B14: =Rohdaten!B18 -> 57.958 | C14: =Rohdaten!C18 -> -131.8 | D14: =AVERAGE(Rohdaten!B18,Rohdaten!BT18,Rohdaten!BP18,Rohdaten!BN18,Rohdaten!CB18,Rohdaten!CF18,Rohdaten!CJ18,Rohdaten!HJ18,Rohdaten!HR18) -> 57.955222 | E14: =AVERAGE(Rohdaten!HH18,Rohdaten!HT18,Rohdaten!BR18,Rohdaten!BX18,Rohdaten!CD18) -> 57.9542 | F14: =AVERAGE(Rohdaten!IH18,Rohdaten!GT18,Rohdaten!DD18,Rohdaten!CV18,Rohdaten!CN18,Rohdaten!BH18,Rohdaten!AZ18,Rohdaten!AR18) -> 57.940375 | G14: =AVERAGE(Rohdaten!IH18,Rohdaten!BD18,Rohdaten!CR18) -> 57.946333 | H14: =Rohdaten!KJ18 -> 57.941 | I14: =D14-F14 -> 0.014847222 | J14: =D14-H14 -> 0.014222222
... A252: =Rohdaten!A256 -> 20000 | B252: =Rohdaten!B256 -> 85.85 | C252: =Rohdaten!C256 -> 113.42 | D252: =AVERAGE(Rohdaten!B256,Rohdaten!BT256,Rohdaten!BP256,Rohdaten!BN256,Rohdaten!CB256,Rohdaten!CF256,Rohdaten!CJ256,Rohdaten!HJ256,Rohdaten!HR256) -> 81.386556 | E252: =AVERAGE(Rohdaten!HH256,Rohdaten!HT256,Rohdaten!BR256,Rohdaten!BX256,Rohdaten!CD256) -> 82.9936 | F252: =AVERAGE(Rohdaten!IH256,Rohdaten!GT256,Rohdaten!DD256,Rohdaten!CV256,Rohdaten!CN256,Rohdaten!BH256,Rohdaten!AZ256,Rohdaten!AR256) -> 77.015 | G252: =AVERAGE(Rohdaten!IH256,Rohdaten!BD256,Rohdaten!CR256) -> 79.468 | H252: =Rohdaten!KJ256 -> 75.029 | I252: =D252-F252 -> 4.3715556 | J252: =D252-H252 -> 6.3575556

Sheet Rohdaten
A1: // Export from Boxsim V2.1 - ©UweG 1999-2020
A2: // Project:
B3: frequency response box | D3: frequency response horizontal cabinet (5 deg) | ET3: frequency response vertical cabinet (5 deg) | KJ3: energy frequency response box | KK3: directivity box
D4: 180° left | F4: 175° left | H4: 170° left | J4: 165° left | L4: 160° left | N4: 155° left | P4: 150° left | R4: 145° left | T4: 140° left | V4: 135° left | X4: 130° left | Z4: 125° left | AB4: 120° left | AD4: 115° left | AF4: 110° left | AH4: 105° left | AJ4: 100° left | AL4: 95° left | AN4: 90° left | AP4: 85° left | AR4: 80° left | AT4: 75° left | AV4: 70° left | AX4: 65° left | AZ4: 60° left | BB4: 55° left | BD4: 50° left | BF4: 45° left | BH4: 40° left | BJ4: 35° left | BL4: 30° left | BN4: 25° left | BP4: 20° left | BR4: 15° left | BT4: 10° left | BV4: 5° left | BX4: 0° | BZ4: 5° right | CB4: 10° right | CD4: 15° right | CF4: 20° right | CH4: 25° right | CJ4: 30° right | CL4: 35° right | CN4: 40° right | CP4: 45° right | CR4: 50° right | CT4: 55° right | CV4: 60° right | CX4: 65° right | CZ4: 70° right | DB4: 75° right | DD4: 80° right | DF4: 85° right | DH4: 90° right | DJ4: 95° right | DL4: 100° right | DN4: 105° right | DP4: 110° right | DR4: 115° right | DT4: 120° right | DV4: 125° right | DX4: 130° right | DZ4: 135° right | EB4: 140° right | ED4: 145° right | EF4: 150° right | EH4: 155° right | EJ4: 160° right | EL4: 165° right | EN4: 170° right | EP4: 175° right | ER4: 180° right | ET4: 180° bottom | EV4: 175° bottom | EX4: 170° bottom | EZ4: 165° bottom | FB4: 160° bottom | FD4: 155° bottom | FF4: 150° bottom | FH4: 145° bottom | FJ4: 140° bottom | FL4: 135° bottom | FN4: 130° bottom | FP4: 125° bottom | FR4: 120° bottom | FT4: 115° bottom | FV4: 110° bottom | FX4: 105° bottom | FZ4: 100° bottom | GB4: 95° bottom | GD4: 90° bottom | GF4: 85° bottom | GH4: 80° bottom | GJ4: 75° bottom | GL4: 70° bottom | GN4: 65° bottom | GP4: 60° bottom | GR4: 55° bottom | GT4: 50° bottom | GV4: 45° bottom | GX4: 40° bottom | GZ4: 35° bottom | HB4: 30° bottom | HD4: 25° bottom | HF4: 20° bottom | HH4: 15° bottom | HJ4: 10° bottom | HL4: 5° bottom | HN4: 0° | HP4: 5° top | HR4: 10° top | HT4: 15° top | HV4: 20° top | HX4: 25° top | HZ4: 30° top | IB4: 35° top | ID4: 40° top | IF4: 45° top | IH4: 50° top | IJ4: 55° top | IL4: 60° top | IN4: 65° top | IP4: 70° top | IR4: 75° top | IT4: 80° top | IV4: 85° top | IX4: 90° top | IZ4: 95° top | JB4: 100° top | JD4: 105° top | JF4: 110° top | JH4: 115° top | JJ4: 120° top | JL4: 125° top | JN4: 130° top | JP4: 135° top | JR4: 140° top | JT4: 145° top | JV4: 150° top | JX4: 155° top | JZ4: 160° top | KB4: 165° top | KD4: 170° top | KF4: 175° top | KH4: 180° top
A5: f | B5: magnitude | C5: phase | D5: magnitude | E5: phase | F5: magnitude | G5: phase | H5: magnitude | I5: phase | J5: magnitude | K5: phase | L5: magnitude | M5: phase | N5: magnitude | O5: phase | P5: magnitude | Q5: phase | R5: magnitude | S5: phase | T5: magnitude | U5: phase | V5: magnitude | W5: phase | X5: magnitude | Y5: phase | Z5: magnitude | AA5: phase | AB5: magnitude | AC5: phase | AD5: magnitude | AE5: phase | AF5: magnitude | AG5: phase | AH5: magnitude | AI5: phase | AJ5: magnitude | AK5: phase | AL5: magnitude | AM5: phase | AN5: magnitude | AO5: phase | AP5: magnitude | AQ5: phase | AR5: magnitude | AS5: phase | AT5: magnitude | AU5: phase | AV5: magnitude | AW5: phase | AX5: magnitude | AY5: phase | AZ5: magnitude | BA5: phase | BB5: magnitude | BC5: phase | BD5: magnitude | BE5: phase | BF5: magnitude | BG5: phase | BH5: magnitude | BI5: phase | BJ5: magnitude | BK5: phase | BL5: magnitude | BM5: phase | BN5: magnitude | BO5: phase | BP5: magnitude | BQ5: phase | BR5: magnitude | BS5: phase | BT5: magnitude | BU5: phase | BV5: magnitude | BW5: phase | BX5: magnitude | BY5: phase | BZ5: magnitude | CA5: phase | CB5: magnitude | CC5: phase | CD5: magnitude | CE5: phase | CF5: magnitude | CG5: phase | CH5: magnitude | CI5: phase | CJ5: magnitude | CK5: phase | CL5: magnitude | CM5: phase | CN5: magnitude | CO5: phase | CP5: magnitude | CQ5: phase | CR5: magnitude | CS5: phase | CT5: magnitude | CU5: phase | CV5: magnitude | CW5: phase | CX5: magnitude | CY5: phase | CZ5: magnitude | DA5: phase | DB5: magnitude | DC5: phase | DD5: magnitude | DE5: phase | DF5: magnitude | DG5: phase | DH5: magnitude | DI5: phase | DJ5: magnitude | DK5: phase | DL5: magnitude | DM5: phase | DN5: magnitude | DO5: phase | DP5: magnitude | DQ5: phase | DR5: magnitude | DS5: phase | DT5: magnitude | DU5: phase | DV5: magnitude | DW5: phase | DX5: magnitude | DY5: phase | DZ5: magnitude | EA5: phase | EB5: magnitude | EC5: phase | ED5: magnitude | EE5: phase | EF5: magnitude | EG5: phase | EH5: magnitude | EI5: phase | EJ5: magnitude | EK5: phase | EL5: magnitude | EM5: phase | EN5: magnitude | EO5: phase | EP5: magnitude | EQ5: phase | ER5: magnitude | ES5: phase | ET5: magnitude | EU5: phase | EV5: magnitude | EW5: phase | EX5: magnitude | EY5: phase | EZ5: magnitude | FA5: phase | FB5: magnitude | FC5: phase | FD5: magnitude | FE5: phase | FF5: magnitude | FG5: phase | FH5: magnitude | FI5: phase | FJ5: magnitude | FK5: phase | FL5: magnitude | FM5: phase | FN5: magnitude | FO5: phase | FP5: magnitude | FQ5: phase | FR5: magnitude | FS5: phase | FT5: magnitude | FU5: phase | FV5: magnitude | FW5: phase | FX5: magnitude | FY5: phase | FZ5: magnitude | GA5: phase | GB5: magnitude | GC5: phase | GD5: magnitude | GE5: phase | GF5: magnitude | GG5: phase | GH5: magnitude | GI5: phase | GJ5: magnitude | GK5: phase | GL5: magnitude | GM5: phase | GN5: magnitude | GO5: phase | GP5: magnitude | GQ5: phase | GR5: magnitude | GS5: phase | GT5: magnitude | GU5: phase | GV5: magnitude | GW5: phase | GX5: magnitude | GY5: phase | GZ5: magnitude | HA5: phase | HB5: magnitude | HC5: phase | HD5: magnitude | HE5: phase | HF5: magnitude | HG5: phase | HH5: magnitude | HI5: phase | HJ5: magnitude | HK5: phase | HL5: magnitude | HM5: phase | HN5: magnitude | HO5: phase | HP5: magnitude | HQ5: phase | HR5: magnitude | HS5: phase | HT5: magnitude | HU5: phase | HV5: magnitude | HW5: phase | HX5: magnitude | HY5: phase | HZ5: magnitude | IA5: phase | IB5: magnitude | IC5: phase | ID5: magnitude | IE5: phase | IF5: magnitude | IG5: phase | IH5: magnitude | II5: phase | IJ5: magnitude | IK5: phase | IL5: magnitude | IM5: phase | IN5: magnitude | IO5: phase | IP5: magnitude | IQ5: phase | IR5: magnitude | IS5: phase | IT5: magnitude | IU5: phase | IV5: magnitude | IW5: phase | IX5: magnitude | IY5: phase | IZ5: magnitude | JA5: phase | JB5: magnitude | JC5: phase | JD5: magnitude | JE5: phase | JF5: magnitude | JG5: phase | JH5: magnitude | JI5: phase | JJ5: magnitude | JK5: phase | JL5: magnitude | JM5: phase | JN5: magnitude | JO5: phase | JP5: magnitude | JQ5: phase | JR5: magnitude | JS5: phase | JT5: magnitude | JU5: phase | JV5: magnitude | JW5: phase | JX5: magnitude | JY5: phase | JZ5: magnitude | KA5: phase | KB5: magnitude | KC5: phase | KD5: magnitude | KE5: phase | KF5: magnitude | KG5: phase | KH5: magnitude | KI5: phase | KJ5: magnitude | KK5: magnitude
A6: [Hz] | B6: [dB] | C6: [deg] | D6: [dB] | E6: [deg] | F6: [dB] | G6: [deg] | H6: [dB] | I6: [deg] | J6: [dB] | K6: [deg] | L6: [dB] | M6: [deg] | N6: [dB] | O6: [deg] | P6: [dB] | Q6: [deg] | R6: [dB] | S6: [deg] | T6: [dB] | U6: [deg] | V6: [dB] | W6: [deg] | X6: [dB] | Y6: [deg] | Z6: [dB] | AA6: [deg] | AB6: [dB] | AC6: [deg] | AD6: [dB] | AE6: [deg] | AF6: [dB] | AG6: [deg] | AH6: [dB] | AI6: [deg] | AJ6: [dB] | AK6: [deg] | AL6: [dB] | AM6: [deg] | AN6: [dB] | AO6: [deg] | AP6: [dB] | AQ6: [deg] | AR6: [dB] | AS6: [deg] | AT6: [dB] | AU6: [deg] | AV6: [dB] | AW6: [deg] | AX6: [dB] | AY6: [deg] | AZ6: [dB] | BA6: [deg] | BB6: [dB] | BC6: [deg] | BD6: [dB] | BE6: [deg] | BF6: [dB] | BG6: [deg] | BH6: [dB] | BI6: [deg] | BJ6: [dB] | BK6: [deg] | BL6: [dB] | BM6: [deg] | BN6: [dB] | BO6: [deg] | BP6: [dB] | BQ6: [deg] | BR6: [dB] | BS6: [deg] | BT6: [dB] | BU6: [deg] | BV6: [dB] | BW6: [deg] | BX6: [dB] | BY6: [deg] | BZ6: [dB] | CA6: [deg] | CB6: [dB] | CC6: [deg] | CD6: [dB] | CE6: [deg] | CF6: [dB] | CG6: [deg] | CH6: [dB] | CI6: [deg] | CJ6: [dB] | CK6: [deg] | CL6: [dB] | CM6: [deg] | CN6: [dB] | CO6: [deg] | CP6: [dB] | CQ6: [deg] | CR6: [dB] | CS6: [deg] | CT6: [dB] | CU6: [deg] | CV6: [dB] | CW6: [deg] | CX6: [dB] | CY6: [deg] | CZ6: [dB] | DA6: [deg] | DB6: [dB] | DC6: [deg] | DD6: [dB] | DE6: [deg] | DF6: [dB] | DG6: [deg] | DH6: [dB] | DI6: [deg] | DJ6: [dB] | DK6: [deg] | DL6: [dB] | DM6: [deg] | DN6: [dB] | DO6: [deg] | DP6: [dB] | DQ6: [deg] | DR6: [dB] | DS6: [deg] | DT6: [dB] | DU6: [deg] | DV6: [dB] | DW6: [deg] | DX6: [dB] | DY6: [deg] | DZ6: [dB] | EA6: [deg] | EB6: [dB] | EC6: [deg] | ED6: [dB] | EE6: [deg] | EF6: [dB] | EG6: [deg] | EH6: [dB] | EI6: [deg] | EJ6: [dB] | EK6: [deg] | EL6: [dB] | EM6: [deg] | EN6: [dB] | EO6: [deg] | EP6: [dB] | EQ6: [deg] | ER6: [dB] | ES6: [deg] | ET6: [dB] | EU6: [deg] | EV6: [dB] | EW6: [deg] | EX6: [dB] | EY6: [deg] | EZ6: [dB] | FA6: [deg] | FB6: [dB] | FC6: [deg] | FD6: [dB] | FE6: [deg] | FF6: [dB] | FG6: [deg] | FH6: [dB] | FI6: [deg] | FJ6: [dB] | FK6: [deg] | FL6: [dB] | FM6: [deg] | FN6: [dB] | FO6: [deg] | FP6: [dB] | FQ6: [deg] | FR6: [dB] | FS6: [deg] | FT6: [dB] | FU6: [deg] | FV6: [dB] | FW6: [deg] | FX6: [dB] | FY6: [deg] | FZ6: [dB] | GA6: [deg] | GB6: [dB] | GC6: [deg] | GD6: [dB] | GE6: [deg] | GF6: [dB] | GG6: [deg] | GH6: [dB] | GI6: [deg] | GJ6: [dB] | GK6: [deg] | GL6: [dB] | GM6: [deg] | GN6: [dB] | GO6: [deg] | GP6: [dB] | GQ6: [deg] | GR6: [dB] | GS6: [deg] | GT6: [dB] | GU6: [deg] | GV6: [dB] | GW6: [deg] | GX6: [dB] | GY6: [deg] | GZ6: [dB] | HA6: [deg] | HB6: [dB] | HC6: [deg] | HD6: [dB] | HE6: [deg] | HF6: [dB] | HG6: [deg] | HH6: [dB] | HI6: [deg] | HJ6: [dB] | HK6: [deg] | HL6: [dB] | HM6: [deg] | HN6: [dB] | HO6: [deg] | HP6: [dB] | HQ6: [deg] | HR6: [dB] | HS6: [deg] | HT6: [dB] | HU6: [deg] | HV6: [dB] | HW6: [deg] | HX6: [dB] | HY6: [deg] | HZ6: [dB] | IA6: [deg] | IB6: [dB] | IC6: [deg] | ID6: [dB] | IE6: [deg] | IF6: [dB] | IG6: [deg] | IH6: [dB] | II6: [deg] | IJ6: [dB] | IK6: [deg] | IL6: [dB] | IM6: [deg] | IN6: [dB] | IO6: [deg] | IP6: [dB] | IQ6: [deg] | IR6: [dB] | IS6: [deg] | IT6: [dB] | IU6: [deg] | IV6: [dB] | IW6: [deg] | IX6: [dB] | IY6: [deg] | IZ6: [dB] | JA6: [deg] | JB6: [dB] | JC6: [deg] | JD6: [dB] | JE6: [deg] | JF6: [dB] | JG6: [deg] | JH6: [dB] | JI6: [deg] | JJ6: [dB] | JK6: [deg] | JL6: [dB] | JM6: [deg] | JN6: [dB] | JO6: [deg] | JP6: [dB] | JQ6: [deg] | JR6: [dB] | JS6: [deg] | JT6: [dB] | JU6: [deg] | JV6: [dB] | JW6: [deg] | JX6: [dB] | JY6: [deg] | JZ6: [dB] | KA6: [deg] | KB6: [dB] | KC6: [deg] | KD6: [dB] | KE6: [deg] | KF6: [dB] | KG6: [deg] | KH6: [dB] | KI6: [deg] | KJ6: [dB] | KK6: [dB]
A7: 20 | B7: 49.657 | C7: -119.3 | D7: 49.639 | E7: -124.2 | F7: 49.64 | G7: -124.1 | H7: 49.642 | I7: -124 | J7: 49.643 | K7: -123.8 | L7: 49.645 | M7: -123.7 | N7: 49.646 | O7: -123.6 | P7: 49.648 | Q7: -123.5 | R7: 49.648 | S7: -123.4 | T7: 49.648 | U7: -123.3 | V7: 49.648 | W7: -123.2 | X7: 49.648 | Y7: -123.1 | Z7: 49.648 | AA7: -123 | AB7: 49.648 | AC7: -122.9 | AD7: 49.648 | AE7: -122.7 | AF7: 49.647 | AG7: -122.5 | AH7: 49.647 | AI7: -122.3 | AJ7: 49.647 | AK7: -122.2 | AL7: 49.647 | AM7: -122 | AN7: 49.648 | AO7: -121.8 | AP7: 49.639 | AQ7: -121.5 | AR7: 49.64 | AS7: -121.2 | AT7: 49.641 | AU7: -120.9 | AV7: 49.642 | AW7: -120.7 | AX7: 49.644 | AY7: -120.5 | AZ7: 49.646 | BA7: -120.3 | BB7: 49.648 | BC7: -120 | BD7: 49.651 | BE7: -119.8 | BF7: 49.651 | BG7: -119.8 | BH7: 49.65 | BI7: -119.8 | BJ7: 49.651 | BK7: -119.8 | BL7: 49.653 | BM7: -119.6 | BN7: 49.662 | BO7: -119.6 | BP7: 49.652 | BQ7: -119.6 | BR7: 49.653 | BS7: -119.5 | BT7: 49.656 | BU7: -119.3 | BV7: 49.656 | BW7: -119.3 | BX7: 49.657 | BY7: -119.3 | BZ7: 49.656 | CA7: -119.3 | CB7: 49.656 | CC7: -119.3 | CD7: 49.653 | CE7: -119.5 | CF7: 49.652 | CG7: -119.6 | CH7: 49.662 | CI7: -119.6 | CJ7: 49.653 | CK7: -119.6 | CL7: 49.651 | CM7: -119.8 | CN7: 49.65 | CO7: -119.8 | CP7: 49.651 | CQ7: -119.8 | CR7: 49.651 | CS7: -119.8 | CT7: 49.648 | CU7: -120 | CV7: 49.646 | CW7: -120.3 | CX7: 49.644 | CY7: -120.5 | CZ7: 49.642 | DA7: -120.7 | DB7: 49.641 | DC7: -120.9 | DD7: 49.64 | DE7: -121.2 | DF7: 49.639 | DG7: -121.5 | DH7: 49.648 | DI7: -121.8 | DJ7: 49.647 | DK7: -122 | DL7: 49.647 | DM7: -122.2 | DN7: 49.647 | DO7: -122.3 | DP7: 49.647 | DQ7: -122.5 | DR7: 49.648 | DS7: -122.7 | DT7: 49.648 | DU7: -122.9 | DV7: 49.648 | DW7: -123 | DX7: 49.648 | DY7: -123.1 | DZ7: 49.648 | EA7: -123.2 | EB7: 49.648 | EC7: -123.3 | ED7: 49.648 | EE7: -123.4 | EF7: 49.648 | EG7: -123.5 | EH7: 49.646 | EI7: -123.6 | EJ7: 49.645 | EK7: -123.7 | EL7: 49.643 | EM7: -123.8 | EN7: 49.642 | EO7: -124 | EP7: 49.64 | EQ7: -124.1 | ER7: 49.639 | ES7: -124.2 | ET7: 49.639 | EU7: -124.2 | EV7: 49.64 | EW7: -123.9 | EX7: 49.642 | EY7: -123.6 | EZ7: 49.643 | FA7: -123.4 | FB7: 49.645 | FC7: -123.1 | FD7: 49.646 | FE7: -122.8 | FF7: 49.648 | FG7: -122.6 | FH7: 49.648 | FI7: -122.4 | FJ7: 49.648 | FK7: -122.2 | FL7: 49.648 | FM7: -122 | FN7: 49.648 | FO7: -121.8 | FP7: 49.648 | FQ7: -121.6 | FR7: 49.648 | FS7: -121.4 | FT7: 49.648 | FU7: -121.2 | FV7: 49.648 | FW7: -121.1 | FX7: 49.647 | FY7: -120.9 | FZ7: 49.647 | GA7: -120.7 | GB7: 49.647 | GC7: -120.6 | GD7: 49.648 | GE7: -120.5 | GF7: 49.642 | GG7: -120.1 | GH7: 49.64 | GI7: -119.8 | GJ7: 49.642 | GK7: -119.5 | GL7: 49.643 | GM7: -119.3 | GN7: 49.645 | GO7: -119.1 | GP7: 49.647 | GQ7: -119 | GR7: 49.651 | GS7: -118.7 | GT7: 49.654 | GU7: -118.5 | GV7: 49.654 | GW7: -118.5 | GX7: 49.653 | GY7: -118.8 | GZ7: 49.654 | HA7: -118.8 | HB7: 49.656 | HC7: -118.7 | HD7: 49.663 | HE7: -118.9 | HF7: 49.653 | HG7: -119.1 | HH7: 49.654 | HI7: -119.1 | HJ7: 49.657 | HK7: -119 | HL7: 49.656 | HM7: -119.2 | HN7: 49.657 | HO7: -119.3 | HP7: 49.656 | HQ7: -119.5 | HR7: 49.655 | HS7: -119.6 | HT7: 49.654 | HU7: -119.8 | HV7: 49.653 | HW7: -120.1 | HX7: 49.661 | HY7: -120.2 | HZ7: 49.651 | IA7: -120.4 | IB7: 49.651 | IC7: -120.6 | ID7: 49.65 | IE7: -120.8 | IF7: 49.649 | IG7: -120.9 | IH7: 49.648 | II7: -121.1 | IJ7: 49.647 | IK7: -121.3 | IL7: 49.644 | IM7: -121.6 | IN7: 49.643 | IO7: -121.9 | IP7: 49.642 | IQ7: -122.1 | IR7: 49.641 | IS7: -122.4 | IT7: 49.64 | IU7: -122.7 | IV7: 49.639 | IW7: -122.9 | IX7: 49.648 | IY7: -123.2 | IZ7: 49.647 | JA7: -123.4 | JB7: 49.647 | JC7: -123.5 | JD7: 49.647 | JE7: -123.6 | JF7: 49.647 | JG7: -123.8 | JH7: 49.648 | JI7: -123.9 | JJ7: 49.648 | JK7: -124 | JL7: 49.648 | JM7: -124.1 | JN7: 49.648 | JO7: -124.2 | JP7: 49.648 | JQ7: -124.2 | JR7: 49.648 | JS7: -124.3 | JT7: 49.648 | JU7: -124.4 | JV7: 49.648 | JW7: -124.4 | JX7: 49.646 | JY7: -124.4 | JZ7: 49.645 | KA7: -124.4 | KB7: 49.643 | KC7: -124.3 | KD7: 49.642 | KE7: -124.3 | KF7: 49.64 | KG7: -124.2 | KH7: 49.639 | KI7: -124.2 | KJ7: 49.65 | KK7: 0.0061
A8: 20.563 | B8: 50.405 | C8: -120.2 | D8: 50.387 | E8: -125.2 | F8: 50.388 | G8: -125.1 | H8: 50.389 | I8: -125 | J8: 50.391 | K8: -124.9 | L8: 50.392 | M8: -124.8 | N8: 50.394 | O8: -124.7 | P8: 50.396 | Q8: -124.5 | R8: 50.396 | S8: -124.4 | T8: 50.395 | U8: -124.3 | V8: 50.395 | W8: -124.2 | X8: 50.395 | Y8: -124.1 | Z8: 50.396 | AA8: -124 | AB8: 50.396 | AC8: -123.9 | AD8: 50.395 | AE8: -123.7 | AF8: 50.395 | AG8: -123.5 | AH8: 50.395 | AI8: -123.4 | AJ8: 50.395 | AK8: -123.2 | AL8: 50.395 | AM8: -123 | AN8: 50.395 | AO8: -122.8 | AP8: 50.387 | AQ8: -122.4 | AR8: 50.388 | AS8: -122.2 | AT8: 50.389 | AU8: -121.9 | AV8: 50.39 | AW8: -121.7 | AX8: 50.392 | AY8: -121.5 | AZ8: 50.394 | BA8: -121.3 | BB8: 50.396 | BC8: -121 | BD8: 50.399 | BE8: -120.7 | BF8: 50.4 | BG8: -120.7 | BH8: 50.399 | BI8: -120.8 | BJ8: 50.4 | BK8: -120.7 | BL8: 50.402 | BM8: -120.5 | BN8: 50.41 | BO8: -120.5 | BP8: 50.401 | BQ8: -120.6 | BR8: 50.402 | BS8: -120.5 | BT8: 50.404 | BU8: -120.3 | BV8: 50.405 | BW8: -120.3 | BX8: 50.405 | BY8: -120.2 | BZ8: 50.405 | CA8: -120.3 | CB8: 50.404 | CC8: -120.3 | CD8: 50.402 | CE8: -120.5 | CF8: 50.401 | CG8: -120.6 | CH8: 50.41 | CI8: -120.5 | CJ8: 50.402 | CK8: -120.5 | CL8: 50.4 | CM8: -120.7 | CN8: 50.399 | CO8: -120.8 | CP8: 50.4 | CQ8: -120.7 | CR8: 50.399 | CS8: -120.7 | CT8: 50.396 | CU8: -121 | CV8: 50.394 | CW8: -121.3 | CX8: 50.392 | CY8: -121.5 | CZ8: 50.39 | DA8: -121.7 | DB8: 50.389 | DC8: -121.9 | DD8: 50.388 | DE8: -122.2 | DF8: 50.387 | DG8: -122.4 | DH8: 50.395 | DI8: -122.8 | DJ8: 50.395 | DK8: -123 | DL8: 50.395 | DM8: -123.2 | DN8: 50.395 | DO8: -123.4 | DP8: 50.395 | DQ8: -123.5 | DR8: 50.395 | DS8: -123.7 | DT8: 50.396 | DU8: -123.9 | DV8: 50.396 | DW8: -124 | DX8: 50.395 | DY8: -124.1 | DZ8: 50.395 | EA8: -124.2 | EB8: 50.395 | EC8: -124.3 | ED8: 50.396 | EE8: -124.4 | EF8: 50.396 | EG8: -124.5 | EH8: 50.394 | EI8: -124.7 | EJ8: 50.392 | EK8: -124.8 | EL8: 50.391 | EM8: -124.9 | EN8: 50.389 | EO8: -125 | EP8: 50.388 | EQ8: -125.1 | ER8: 50.387 | ES8: -125.2 | ET8: 50.387 | EU8: -125.2 | EV8: 50.388 | EW8: -125 | EX8: 50.389 | EY8: -124.7 | EZ8: 50.391 | FA8: -124.4 | FB8: 50.392 | FC8: -124.1 | FD8: 50.394 | FE8: -123.9 | FF8: 50.396 | FG8: -123.6 | FH8: 50.396 | FI8: -123.4 | FJ8: 50.395 | FK8: -123.2 | FL8: 50.395 | FM8: -123 | FN8: 50.395 | FO8: -122.8 | FP8: 50.396 | FQ8: -122.6 | FR8: 50.396 | FS8: -122.4 | FT8: 50.395 | FU8: -122.2 | FV8: 50.395 | FW8: -122 | FX8: 50.395 | FY8: -121.9 | FZ8: 50.395 | GA8: -121.7 | GB8: 50.395 | GC8: -121.6 | GD8: 50.395 | GE8: -121.4 | GF8: 50.389 | GG8: -121 | GH8: 50.388 | GI8: -120.8 | GJ8: 50.39 | GK8: -120.4 | GL8: 50.391 | GM8: -120.3 | GN8: 50.393 | GO8: -120.1 | GP8: 50.395 | GQ8: -119.9 | GR8: 50.399 | GS8: -119.6 | GT8: 50.403 | GU8: -119.4 | GV8: 50.403 | GW8: -119.4 | GX8: 50.401 | GY8: -119.7 | GZ8: 50.402 | HA8: -119.7 | HB8: 50.404 | HC8: -119.6 | HD8: 50.412 | HE8: -119.8 | HF8: 50.402 | HG8: -120 | HH8: 50.402 | HI8: -120.1 | HJ8: 50.405 | HK8: -119.9 | HL8: 50.405 | HM8: -120.1 | HN8: 50.405 | HO8: -120.2 | HP8: 50.404 | HQ8: -120.4 | HR8: 50.404 | HS8: -120.5 | HT8: 50.403 | HU8: -120.8 | HV8: 50.401 | HW8: -121 | HX8: 50.409 | HY8: -121.2 | HZ8: 50.4 | IA8: -121.3 | IB8: 50.399 | IC8: -121.6 | ID8: 50.398 | IE8: -121.7 | IF8: 50.398 | IG8: -121.9 | IH8: 50.397 | II8: -122 | IJ8: 50.395 | IK8: -122.3 | IL8: 50.393 | IM8: -122.6 | IN8: 50.391 | IO8: -122.9 | IP8: 50.39 | IQ8: -123.1 | IR8: 50.389 | IS8: -123.4 | IT8: 50.387 | IU8: -123.7 | IV8: 50.387 | IW8: -123.9 | IX8: 50.395 | IY8: -124.2 | IZ8: 50.395 | JA8: -124.4 | JB8: 50.395 | JC8: -124.6 | JD8: 50.395 | JE8: -124.7 | JF8: 50.395 | JG8: -124.8 | JH8: 50.395 | JI8: -124.9 | JJ8: 50.396 | JK8: -125.1 | JL8: 50.395 | JM8: -125.1 | JN8: 50.395 | JO8: -125.2 | JP8: 50.395 | JQ8: -125.3 | JR8: 50.395 | JS8: -125.4 | JT8: 50.395 | JU8: -125.4 | JV8: 50.396 | JW8: -125.5 | JX8: 50.394 | JY8: -125.5 | JZ8: 50.393 | KA8: -125.4 | KB8: 50.391 | KC8: -125.4 | KD8: 50.39 | KE8: -125.3 | KF8: 50.388 | KG8: -125.3 | KH8: 50.387 | KI8: -125.2 | KJ8: 50.398 | KK8: 0.0069
A9: 21.141 | B9: 51.155 | C9: -121.2 | D9: 51.135 | E9: -126.3 | F9: 51.137 | G9: -126.2 | H9: 51.138 | I9: -126.1 | J9: 51.14 | K9: -126 | L9: 51.141 | M9: -125.9 | N9: 51.143 | O9: -125.7 | P9: 51.145 | Q9: -125.6 | R9: 51.144 | S9: -125.5 | T9: 51.144 | U9: -125.4 | V9: 51.144 | W9: -125.3 | X9: 51.144 | Y9: -125.2 | Z9: 51.144 | AA9: -125 | AB9: 51.145 | AC9: -124.9 | AD9: 51.144 | AE9: -124.8 | AF9: 51.144 | AG9: -124.6 | AH9: 51.144 | AI9: -124.4 | AJ9: 51.144 | AK9: -124.2 | AL9: 51.144 | AM9: -124 | AN9: 51.144 | AO9: -123.9 | AP9: 51.136 | AQ9: -123.5 | AR9: 51.137 | AS9: -123.2 | AT9: 51.138 | AU9: -122.9 | AV9: 51.14 | AW9: -122.7 | AX9: 51.141 | AY9: -122.5 | AZ9: 51.143 | BA9: -122.3 | BB9: 51.146 | BC9: -122 | BD9: 51.149 | BE9: -121.7 | BF9: 51.149 | BG9: -121.7 | BH9: 51.148 | BI9: -121.8 | BJ9: 51.149 | BK9: -121.7 | BL9: 51.152 | BM9: -121.5 | BN9: 51.16 | BO9: -121.5 | BP9: 51.151 | BQ9: -121.5 | BR9: 51.152 | BS9: -121.4 | BT9: 51.154 | BU9: -121.2 | BV9: 51.154 | BW9: -121.2 | BX9: 51.155 | BY9: -121.2 | BZ9: 51.154 | CA9: -121.2 | CB9: 51.154 | CC9: -121.2 | CD9: 51.152 | CE9: -121.4 | CF9: 51.151 | CG9: -121.5 | CH9: 51.16 | CI9: -121.5 | CJ9: 51.152 | CK9: -121.5 | CL9: 51.149 | CM9: -121.7 | CN9: 51.148 | CO9: -121.8 | CP9: 51.149 | CQ9: -121.7 | CR9: 51.149 | CS9: -121.7 | CT9: 51.146 | CU9: -122 | CV9: 51.143 | CW9: -122.3 | CX9: 51.141 | CY9: -122.5 | CZ9: 51.14 | DA9: -122.7 | DB9: 51.138 | DC9: -122.9 | DD9: 51.137 | DE9: -123.2 | DF9: 51.136 | DG9: -123.5 | DH9: 51.144 | DI9: -123.9 | DJ9: 51.144 | DK9: -124 | DL9: 51.144 | DM9: -124.2 | DN9: 51.144 | DO9: -124.4 | DP9: 51.144 | DQ9: -124.6 | DR9: 51.144 | DS9: -124.8 | DT9: 51.145 | DU9: -124.9 | DV9: 51.144 | DW9: -125 | DX9: 51.144 | DY9: -125.2 | DZ9: 51.144 | EA9: -125.3 | EB9: 51.144 | EC9: -125.4 | ED9: 51.144 | EE9: -125.5 | EF9: 51.145 | EG9: -125.6 | EH9: 51.143 | EI9: -125.7 | EJ9: 51.141 | EK9: -125.9 | EL9: 51.14 | EM9: -126 | EN9: 51.138 | EO9: -126.1 | EP9: 51.137 | EQ9: -126.2 | ER9: 51.135 | ES9: -126.3 | ET9: 51.135 | EU9: -126.3 | EV9: 51.137 | EW9: -126 | EX9: 51.138 | EY9: -125.8 | EZ9: 51.14 | FA9: -125.5 | FB9: 51.141 | FC9: -125.2 | FD9: 51.143 | FE9: -124.9 | FF9: 51.145 | FG9: -124.6 | FH9: 51.144 | FI9: -124.4 | FJ9: 51.144 | FK9: -124.2 | FL9: 51.144 | FM9: -124 | FN9: 51.144 | FO9: -123.8 | FP9: 51.144 | FQ9: -123.6 | FR9: 51.145 | FS9: -123.4 | FT9: 51.144 | FU9: -123.2 | FV9: 51.144 | FW9: -123 | FX9: 51.144 | FY9: -122.9 | FZ9: 51.144 | GA9: -122.7 | GB9: 51.144 | GC9: -122.6 | GD9: 51.144 | GE9: -122.4 | GF9: 51.138 | GG9: -122 | GH9: 51.137 | GI9: -121.7 | GJ9: 51.139 | GK9: -121.4 | GL9: 51.14 | GM9: -121.2 | GN9: 51.142 | GO9: -121 | GP9: 51.145 | GQ9: -120.8 | GR9: 51.149 | GS9: -120.5 | GT9: 51.152 | GU9: -120.3 | GV9: 51.153 | GW9: -120.4 | GX9: 51.151 | GY9: -120.6 | GZ9: 51.152 | HA9: -120.6 | HB9: 51.154 | HC9: -120.5 | HD9: 51.162 | HE9: -120.8 | HF9: 51.151 | HG9: -121 | HH9: 51.152 | HI9: -121 | HJ9: 51.155 | HK9: -120.9 | HL9: 51.155 | HM9: -121.1 | HN9: 51.155 | HO9: -121.2 | HP9: 51.154 | HQ9: -121.4 | HR9: 51.154 | HS9: -121.5 | HT9: 51.153 | HU9: -121.7 | HV9: 51.151 | HW9: -122 | HX9: 51.159 | HY9: -122.2 | HZ9: 51.149 | IA9: -122.3 | IB9: 51.149 | IC9: -122.6 | ID9: 51.147 | IE9: -122.7 | IF9: 51.147 | IG9: -122.9 | IH9: 51.146 | II9: -123 | IJ9: 51.144 | IK9: -123.3 | IL9: 51.142 | IM9: -123.6 | IN9: 51.14 | IO9: -123.9 | IP9: 51.139 | IQ9: -124.2 | IR9: 51.137 | IS9: -124.4 | IT9: 51.136 | IU9: -124.7 | IV9: 51.136 | IW9: -125 | IX9: 51.144 | IY9: -125.3 | IZ9: 51.144 | JA9: -125.5 | JB9: 51.144 | JC9: -125.6 | JD9: 51.144 | JE9: -125.8 | JF9: 51.144 | JG9: -125.9 | JH9: 51.144 | JI9: -126 | JJ9: 51.145 | JK9: -126.1 | JL9: 51.144 | JM9: -126.2 | JN9: 51.144 | JO9: -126.3 | JP9: 51.144 | JQ9: -126.4 | JR9: 51.144 | JS9: -126.5 | JT9: 51.144 | JU9: -126.5 | JV9: 51.145 | JW9: -126.6 | JX9: 51.143 | JY9: -126.6 | JZ9: 51.141 | KA9: -126.5 | KB9: 51.14 | KC9: -126.5 | KD9: 51.138 | KE9: -126.4 | KF9: 51.137 | KG9: -126.4 | KH9: 51.135 | KI9: -126.3 | KJ9: 51.148 | KK9: 0.0077
A10: 21.736 | B10: 51.906 | C10: -122.2 | D10: 51.885 | E10: -127.5 | F10: 51.887 | G10: -127.4 | H10: 51.888 | I10: -127.2 | J10: 51.89 | K10: -127.1 | L10: 51.891 | M10: -127 | N10: 51.893 | O10: -126.9 | P10: 51.895 | Q10: -126.7 | R10: 51.894 | S10: -126.6 | T10: 51.894 | U10: -126.5 | V10: 51.894 | W10: -126.4 | X10: 51.894 | Y10: -126.3 | Z10: 51.894 | AA10: -126.1 | AB10: 51.895 | AC10: -126 | AD10: 51.894 | AE10: -125.8 | AF10: 51.894 | AG10: -125.7 | AH10: 51.894 | AI10: -125.5 | AJ10: 51.894 | AK10: -125.3 | AL10: 51.894 | AM10: -125.1 | AN10: 51.894 | AO10: -124.9 | AP10: 51.886 | AQ10: -124.5 | AR10: 51.887 | AS10: -124.3 | AT10: 51.888 | AU10: -123.9 | AV10: 51.89 | AW10: -123.7 | AX10: 51.891 | AY10: -123.5 | AZ10: 51.893 | BA10: -123.3 | BB10: 51.896 | BC10: -123 | BD10: 51.899 | BE10: -122.7 | BF10: 51.9 | BG10: -122.7 | BH10: 51.899 | BI10: -122.8 | BJ10: 51.9 | BK10: -122.7 | BL10: 51.903 | BM10: -122.5 | BN10: 51.911 | BO10: -122.5 | BP10: 51.902 | BQ10: -122.5 | BR10: 51.903 | BS10: -122.4 | BT10: 51.905 | BU10: -122.2 | BV10: 51.905 | BW10: -122.2 | BX10: 51.906 | BY10: -122.2 | BZ10: 51.905 | CA10: -122.2 | CB10: 51.905 | CC10: -122.2 | CD10: 51.903 | CE10: -122.4 | CF10: 51.902 | CG10: -122.5 | CH10: 51.911 | CI10: -122.5 | CJ10: 51.903 | CK10: -122.5 | CL10: 51.9 | CM10: -122.7 | CN10: 51.899 | CO10: -122.8 | CP10: 51.9 | CQ10: -122.7 | CR10: 51.899 | CS10: -122.7 | CT10: 51.896 | CU10: -123 | CV10: 51.893 | CW10: -123.3 | CX10: 51.891 | CY10: -123.5 | CZ10: 51.89 | DA10: -123.7 | DB10: 51.888 | DC10: -123.9 | DD10: 51.887 | DE10: -124.3 | DF10: 51.886 | DG10: -124.5 | DH10: 51.894 | DI10: -124.9 | DJ10: 51.894 | DK10: -125.1 | DL10: 51.894 | DM10: -125.3 | DN10: 51.894 | DO10: -125.5 | DP10: 51.894 | DQ10: -125.7 | DR10: 51.894 | DS10: -125.8 | DT10: 51.895 | DU10: -126 | DV10: 51.894 | DW10: -126.1 | DX10: 51.894 | DY10: -126.3 | DZ10: 51.894 | EA10: -126.4 | EB10: 51.894 | EC10: -126.5 | ED10: 51.894 | EE10: -126.6 | EF10: 51.895 | EG10: -126.7 | EH10: 51.893 | EI10: -126.9 | EJ10: 51.891 | EK10: -127 | EL10: 51.89 | EM10: -127.1 | EN10: 51.888 | EO10: -127.2 | EP10: 51.887 | EQ10: -127.4 | ER10: 51.885 | ES10: -127.5 | ET10: 51.885 | EU10: -127.5 | EV10: 51.887 | EW10: -127.2 | EX10: 51.888 | EY10: -126.9 | EZ10: 51.89 | FA10: -126.6 | FB10: 51.891 | FC10: -126.3 | FD10: 51.893 | FE10: -126 | FF10: 51.895 | FG10: -125.7 | FH10: 51.894 | FI10: -125.5 | FJ10: 51.894 | FK10: -125.3 | FL10: 51.894 | FM10: -125.1 | FN10: 51.894 | FO10: -124.9 | FP10: 51.894 | FQ10: -124.7 | FR10: 51.895 | FS10: -124.5 | FT10: 51.894 | FU10: -124.3 | FV10: 51.894 | FW10: -124.1 | FX10: 51.894 | FY10: -123.9 | FZ10: 51.894 | GA10: -123.7 | GB10: 51.894 | GC10: -123.6 | GD10: 51.894 | GE10: -123.4 | GF10: 51.889 | GG10: -123 | GH10: 51.887 | GI10: -122.7 | GJ10: 51.889 | GK10: -122.4 | GL10: 51.891 | GM10: -122.2 | GN10: 51.893 | GO10: -122 | GP10: 51.895 | GQ10: -121.8 | GR10: 51.9 | GS10: -121.5 | GT10: 51.903 | GU10: -121.3 | GV10: 51.904 | GW10: -121.3 | GX10: 51.902 | GY10: -121.6 | GZ10: 51.903 | HA10: -121.6 | HB10: 51.905 | HC10: -121.5 | HD10: 51.913 | HE10: -121.7 | HF10: 51.902 | HG10: -122 | HH10: 51.903 | HI10: -122 | HJ10: 51.906 | HK10: -121.9 | HL10: 51.906 | HM10: -122.1 | HN10: 51.906 | HO10: -122.2 | HP10: 51.905 | HQ10: -122.4 | HR10: 51.905 | HS10: -122.5 | HT10: 51.904 | HU10: -122.7 | HV10: 51.902 | HW10: -123 | HX10: 51.91 | HY10: -123.2 | HZ10: 51.9 | IA10: -123.4 | IB10: 51.899 | IC10: -123.6 | ID10: 51.898 | IE10: -123.8 | IF10: 51.898 | IG10: -123.9 | IH10: 51.897 | II10: -124.1 | IJ10: 51.895 | IK10: -124.4 | IL10: 51.892 | IM10: -124.7 | IN10: 51.89 | IO10: -125 | IP10: 51.889 | IQ10: -125.3 | IR10: 51.888 | IS10: -125.5 | IT10: 51.886 | IU10: -125.8 | IV10: 51.886 | IW10: -126.1 | IX10: 51.894 | IY10: -126.4 | IZ10: 51.894 | JA10: -126.6 | JB10: 51.894 | JC10: -126.7 | JD10: 51.894 | JE10: -126.9 | JF10: 51.894 | JG10: -127 | JH10: 51.894 | JI10: -127.2 | JJ10: 51.895 | JK10: -127.3 | JL10: 51.894 | JM10: -127.4 | JN10: 51.894 | JO10: -127.5 | JP10: 51.894 | JQ10: -127.6 | JR10: 51.894 | JS10: -127.6 | JT10: 51.894 | JU10: -127.7 | JV10: 51.895 | JW10: -127.8 | JX10: 51.893 | JY10: -127.7 | JZ10: 51.891 | KA10: -127.7 | KB10: 51.89 | KC10: -127.6 | KD10: 51.888 | KE10: -127.6 | KF10: 51.887 | KG10: -127.5 | KH10: 51.885 | KI10: -127.5 | KJ10: 51.898 | KK10: 0.0085
A11: 22.347 | B11: 52.659 | C11: -123.2 | D11: 52.637 | E11: -128.7 | F11: 52.638 | G11: -128.5 | H11: 52.639 | I11: -128.4 | J11: 52.641 | K11: -128.3 | L11: 52.642 | M11: -128.2 | N11: 52.644 | O11: -128 | P11: 52.646 | Q11: -127.9 | R11: 52.646 | S11: -127.8 | T11: 52.645 | U11: -127.7 | V11: 52.645 | W11: -127.5 | X11: 52.645 | Y11: -127.4 | Z11: 52.646 | AA11: -127.3 | AB11: 52.646 | AC11: -127.2 | AD11: 52.645 | AE11: -127 | AF11: 52.645 | AG11: -126.8 | AH11: 52.645 | AI11: -126.6 | AJ11: 52.645 | AK11: -126.4 | AL11: 52.645 | AM11: -126.2 | AN11: 52.645 | AO11: -126 | AP11: 52.637 | AQ11: -125.6 | AR11: 52.638 | AS11: -125.4 | AT11: 52.64 | AU11: -125 | AV11: 52.641 | AW11: -124.8 | AX11: 52.643 | AY11: -124.6 | AZ11: 52.645 | BA11: -124.3 | BB11: 52.648 | BC11: -124 | BD11: 52.651 | BE11: -123.8 | BF11: 52.652 | BG11: -123.7 | BH11: 52.651 | BI11: -123.8 | BJ11: 52.652 | BK11: -123.7 | BL11: 52.655 | BM11: -123.5 | BN11: 52.663 | BO11: -123.5 | BP11: 52.654 | BQ11: -123.6 | BR11: 52.655 | BS11: -123.5 | BT11: 52.657 | BU11: -123.3 | BV11: 52.658 | BW11: -123.3 | BX11: 52.659 | BY11: -123.2 | BZ11: 52.658 | CA11: -123.3 | CB11: 52.657 | CC11: -123.3 | CD11: 52.655 | CE11: -123.5 | CF11: 52.654 | CG11: -123.6 | CH11: 52.663 | CI11: -123.5 | CJ11: 52.655 | CK11: -123.5 | CL11: 52.652 | CM11: -123.7 | CN11: 52.651 | CO11: -123.8 | CP11: 52.652 | CQ11: -123.7 | CR11: 52.651 | CS11: -123.8 | CT11: 52.648 | CU11: -124 | CV11: 52.645 | CW11: -124.3 | CX11: 52.643 | CY11: -124.6 | CZ11: 52.641 | DA11: -124.8 | DB11: 52.64 | DC11: -125 | DD11: 52.638 | DE11: -125.4 | DF11: 52.637 | DG11: -125.6 | DH11: 52.645 | DI11: -126 | DJ11: 52.645 | DK11: -126.2 | DL11: 52.645 | DM11: -126.4 | DN11: 52.645 | DO11: -126.6 | DP11: 52.645 | DQ11: -126.8 | DR11: 52.645 | DS11: -127 | DT11: 52.646 | DU11: -127.2 | DV11: 52.646 | DW11: -127.3 | DX11: 52.645 | DY11: -127.4 | DZ11: 52.645 | EA11: -127.5 | EB11: 52.645 | EC11: -127.7 | ED11: 52.646 | EE11: -127.8 | EF11: 52.646 | EG11: -127.9 | EH11: 52.644 | EI11: -128 | EJ11: 52.642 | EK11: -128.2 | EL11: 52.641 | EM11: -128.3 | EN11: 52.639 | EO11: -128.4 | EP11: 52.638 | EQ11: -128.5 | ER11: 52.637 | ES11: -128.7 | ET11: 52.637 | EU11: -128.7 | EV11: 52.638 | EW11: -128.3 | EX11: 52.639 | EY11: -128 | EZ11: 52.641 | FA11: -127.7 | FB11: 52.642 | FC11: -127.4 | FD11: 52.644 | FE11: -127.2 | FF11: 52.646 | FG11: -126.9 | FH11: 52.646 | FI11: -126.6 | FJ11: 52.645 | FK11: -126.4 | FL11: 52.645 | FM11: -126.2 | FN11: 52.645 | FO11: -126 | FP11: 52.646 | FQ11: -125.8 | FR11: 52.646 | FS11: -125.6 | FT11: 52.645 | FU11: -125.4 | FV11: 52.645 | FW11: -125.2 | FX11: 52.645 | FY11: -125 | FZ11: 52.645 | GA11: -124.8 | GB11: 52.645 | GC11: -124.7 | GD11: 52.645 | GE11: -124.5 | GF11: 52.64 | GG11: -124.1 | GH11: 52.638 | GI11: -123.8 | GJ11: 52.641 | GK11: -123.4 | GL11: 52.642 | GM11: -123.2 | GN11: 52.644 | GO11: -123 | GP11: 52.647 | GQ11: -122.8 | GR11: 52.652 | GS11: -122.5 | GT11: 52.655 | GU11: -122.3 | GV11: 52.656 | GW11: -122.4 | GX11: 52.654 | GY11: -122.6 | GZ11: 52.655 | HA11: -122.6 | HB11: 52.657 | HC11: -122.5 | HD11: 52.665 | HE11: -122.8 | HF11: 52.654 | HG11: -123 | HH11: 52.655 | HI11: -123 | HJ11: 52.659 | HK11: -122.9 | HL11: 52.658 | HM11: -123.1 | HN11: 52.659 | HO11: -123.2 | HP11: 52.657 | HQ11: -123.4 | HR11: 52.657 | HS11: -123.6 | HT11: 52.656 | HU11: -123.8 | HV11: 52.654 | HW11: -124.1 | HX11: 52.662 | HY11: -124.3 | HZ11: 52.652 | IA11: -124.4 | IB11: 52.651 | IC11: -124.7 | ID11: 52.65 | IE11: -124.9 | IF11: 52.649 | IG11: -125 | IH11: 52.648 | II11: -125.2 | IJ11: 52.646 | IK11: -125.5 | IL11: 52.644 | IM11: -125.8 | IN11: 52.642 | IO11: -126.1 | IP11: 52.64 | IQ11: -126.4 | IR11: 52.639 | IS11: -126.6 | IT11: 52.638 | IU11: -127 | IV11: 52.637 | IW11: -127.2 | IX11: 52.645 | IY11: -127.6 | IZ11: 52.645 | JA11: -127.7 | JB11: 52.645 | JC11: -127.9 | JD11: 52.645 | JE11: -128.1 | JF11: 52.645 | JG11: -128.2 | JH11: 52.645 | JI11: -128.3 | JJ11: 52.646 | JK11: -128.5 | JL11: 52.645 | JM11: -128.6 | JN11: 52.645 | JO11: -128.6 | JP11: 52.645 | JQ11: -128.7 | JR11: 52.645 | JS11: -128.8 | JT11: 52.645 | JU11: -128.9 | JV11: 52.646 | JW11: -128.9 | JX11: 52.644 | JY11: -128.9 | JZ11: 52.643 | KA11: -128.9 | KB11: 52.641 | KC11: -128.8 | KD11: 52.64 | KE11: -128.8 | KF11: 52.638 | KG11: -128.7 | KH11: 52.637 | KI11: -128.7 | KJ11: 52.649 | KK11: 0.0094
A12: 22.976 | B12: 53.412 | C12: -124.3 | D12: 53.389 | E12: -129.9 | F12: 53.39 | G12: -129.8 | H12: 53.392 | I12: -129.6 | J12: 53.393 | K12: -129.5 | L12: 53.395 | M12: -129.4 | N12: 53.396 | O12: -129.2 | P12: 53.398 | Q12: -129.1 | R12: 53.398 | S12: -129 | T12: 53.398 | U12: -128.9 | V12: 53.398 | W12: -128.7 | X12: 53.398 | Y12: -128.6 | Z12: 53.398 | AA12: -128.5 | AB12: 53.398 | AC12: -128.4 | AD12: 53.398 | AE12: -128.2 | AF12: 53.397 | AG12: -128 | AH12: 53.397 | AI12: -127.8 | AJ12: 53.397 | AK12: -127.6 | AL12: 53.397 | AM12: -127.4 | AN12: 53.398 | AO12: -127.2 | AP12: 53.39 | AQ12: -126.8 | AR12: 53.39 | AS12: -126.5 | AT12: 53.392 | AU12: -126.1 | AV12: 53.394 | AW12: -125.9 | AX12: 53.396 | AY12: -125.7 | AZ12: 53.398 | BA12: -125.4 | BB12: 53.401 | BC12: -125.1 | BD12: 53.404 | BE12: -124.9 | BF12: 53.405 | BG12: -124.8 | BH12: 53.404 | BI12: -124.9 | BJ12: 53.405 | BK12: -124.8 | BL12: 53.408 | BM12: -124.6 | BN12: 53.416 | BO12: -124.6 | BP12: 53.407 | BQ12: -124.7 | BR12: 53.408 | BS12: -124.6 | BT12: 53.411 | BU12: -124.3 | BV12: 53.411 | BW12: -124.3 | BX12: 53.412 | BY12: -124.3 | BZ12: 53.411 | CA12: -124.3 | CB12: 53.411 | CC12: -124.3 | CD12: 53.408 | CE12: -124.6 | CF12: 53.407 | CG12: -124.7 | CH12: 53.416 | CI12: -124.6 | CJ12: 53.408 | CK12: -124.6 | CL12: 53.405 | CM12: -124.8 | CN12: 53.404 | CO12: -124.9 | CP12: 53.405 | CQ12: -124.8 | CR12: 53.404 | CS12: -124.9 | CT12: 53.401 | CU12: -125.1 | CV12: 53.398 | CW12: -125.4 | CX12: 53.396 | CY12: -125.7 | CZ12: 53.394 | DA12: -125.9 | DB12: 53.392 | DC12: -126.1 | DD12: 53.39 | DE12: -126.5 | DF12: 53.39 | DG12: -126.8 | DH12: 53.398 | DI12: -127.2 | DJ12: 53.397 | DK12: -127.4 | DL12: 53.397 | DM12: -127.6 | DN12: 53.397 | DO12: -127.8 | DP12: 53.397 | DQ12: -128 | DR12: 53.398 | DS12: -128.2 | DT12: 53.398 | DU12: -128.4 | DV12: 53.398 | DW12: -128.5 | DX12: 53.398 | DY12: -128.6 | DZ12: 53.398 | EA12: -128.7 | EB12: 53.398 | EC12: -128.9 | ED12: 53.398 | EE12: -129 | EF12: 53.398 | EG12: -129.1 | EH12: 53.396 | EI12: -129.2 | EJ12: 53.395 | EK12: -129.4 | EL12: 53.393 | EM12: -129.5 | EN12: 53.392 | EO12: -129.6 | EP12: 53.39 | EQ12: -129.8 | ER12: 53.389 | ES12: -129.9 | ET12: 53.389 | EU12: -129.9 | EV12: 53.39 | EW12: -129.6 | EX12: 53.392 | EY12: -129.3 | EZ12: 53.393 | FA12: -128.9 | FB12: 53.395 | FC12: -128.6 | FD12: 53.396 | FE12: -128.3 | FF12: 53.398 | FG12: -128 | FH12: 53.398 | FI12: -127.8 | FJ12: 53.398 | FK12: -127.6 | FL12: 53.398 | FM12: -127.3 | FN12: 53.398 | FO12: -127.1 | FP12: 53.398 | FQ12: -126.9 | FR12: 53.398 | FS12: -126.7 | FT12: 53.398 | FU12: -126.5 | FV12: 53.398 | FW12: -126.3 | FX12: 53.398 | FY12: -126.1 | FZ12: 53.398 | GA12: -125.9 | GB12: 53.398 | GC12: -125.8 | GD12: 53.398 | GE12: -125.6 | GF12: 53.392 | GG12: -125.2 | GH12: 53.395 | GI12: -124.9 | GJ12: 53.393 | GK12: -124.5 | GL12: 53.395 | GM12: -124.3 | GN12: 53.397 | GO12: -124.1 | GP12: 53.4 | GQ12: -123.9 | GR12: 53.405 | GS12: -123.6 | GT12: 53.409 | GU12: -123.3 | GV12: 53.41 | GW12: -123.4 | GX12: 53.407 | GY12: -123.7 | GZ12: 53.409 | HA12: -123.7 | HB12: 53.411 | HC12: -123.6 | HD12: 53.418 | HE12: -123.8 | HF12: 53.408 | HG12: -124.1 | HH12: 53.409 | HI12: -124.1 | HJ12: 53.412 | HK12: -124 | HL12: 53.412 | HM12: -124.2 | HN12: 53.412 | HO12: -124.3 | HP12: 53.411 | HQ12: -124.5 | HR12: 53.41 | HS12: -124.7 | HT12: 53.409 | HU12: -124.9 | HV12: 53.407 | HW12: -125.2 | HX12: 53.415 | HY12: -125.4 | HZ12: 53.405 | IA12: -125.6 | IB12: 53.405 | IC12: -125.8 | ID12: 53.403 | IE12: -126 | IF12: 53.403 | IG12: -126.1 | IH12: 53.401 | II12: -126.3 | IJ12: 53.399 | IK12: -126.6 | IL12: 53.396 | IM12: -127 | IN12: 53.394 | IO12: -127.3 | IP12: 53.393 | IQ12: -127.5 | IR12: 53.391 | IS12: -127.8 | IT12: 53.39 | IU12: -128.1 | IV12: 53.389 | IW12: -128.4 | IX12: 53.398 | IY12: -128.8 | IZ12: 53.397 | JA12: -128.9 | JB12: 53.397 | JC12: -129.1 | JD12: 53.397 | JE12: -129.3 | JF12: 53.397 | JG12: -129.4 | JH12: 53.398 | JI12: -129.5 | JJ12: 53.398 | JK12: -129.7 | JL12: 53.398 | JM12: -129.8 | JN12: 53.398 | JO12: -129.9 | JP12: 53.398 | JQ12: -130 | JR12: 53.398 | JS12: -130 | JT12: 53.398 | JU12: -130.1 | JV12: 53.398 | JW12: -130.2 | JX12: 53.396 | JY12: -130.1 | JZ12: 53.395 | KA12: -130.1 | KB12: 53.393 | KC12: -130 | KD12: 53.392 | KE12: -130 | KF12: 53.39 | KG12: -129.9 | KH12: 53.389 | KI12: -129.9 | KJ12: 53.402 | KK12: 0.0103
A13: 23.622 | B13: 54.167 | C13: -125.4 | D13: 54.142 | E13: -131.2 | F13: 54.144 | G13: -131 | H13: 54.145 | I13: -130.9 | J13: 54.147 | K13: -130.8 | L13: 54.148 | M13: -130.6 | N13: 54.15 | O13: -130.5 | P13: 54.151 | Q13: -130.4 | R13: 54.151 | S13: -130.2 | T13: 54.151 | U13: -130.1 | V13: 54.151 | W13: -130 | X13: 54.151 | Y13: -129.8 | Z13: 54.151 | AA13: -129.7 | AB13: 54.151 | AC13: -129.6 | AD13: 54.151 | AE13: -129.4 | AF13: 54.151 | AG13: -129.2 | AH13: 54.151 | AI13: -129 | AJ13: 54.151 | AK13: -128.8 | AL13: 54.151 | AM13: -128.6 | AN13: 54.151 | AO13: -128.4 | AP13: 54.143 | AQ13: -127.9 | AR13: 54.144 | AS13: -127.7 | AT13: 54.146 | AU13: -127.3 | AV13: 54.148 | AW13: -127.1 | AX13: 54.149 | AY13: -126.8 | AZ13: 54.152 | BA13: -126.6 | BB13: 54.155 | BC13: -126.3 | BD13: 54.159 | BE13: -126 | BF13: 54.16 | BG13: -125.9 | BH13: 54.158 | BI13: -126 | BJ13: 54.159 | BK13: -126 | BL13: 54.162 | BM13: -125.7 | BN13: 54.171 | BO13: -125.8 | BP13: 54.161 | BQ13: -125.8 | BR13: 54.163 | BS13: -125.7 | BT13: 54.166 | BU13: -125.5 | BV13: 54.166 | BW13: -125.5 | BX13: 54.167 | BY13: -125.4 | BZ13: 54.166 | CA13: -125.5 | CB13: 54.166 | CC13: -125.5 | CD13: 54.163 | CE13: -125.7 | CF13: 54.161 | CG13: -125.8 | CH13: 54.171 | CI13: -125.8 | CJ13: 54.162 | CK13: -125.7 | CL13: 54.159 | CM13: -126 | CN13: 54.158 | CO13: -126 | CP13: 54.16 | CQ13: -125.9 | CR13: 54.159 | CS13: -126 | CT13: 54.155 | CU13: -126.3 | CV13: 54.152 | CW13: -126.6 | CX13: 54.149 | CY13: -126.8 | CZ13: 54.148 | DA13: -127.1 | DB13: 54.146 | DC13: -127.3 | DD13: 54.144 | DE13: -127.7 | DF13: 54.143 | DG13: -127.9 | DH13: 54.151 | DI13: -128.4 | DJ13: 54.151 | DK13: -128.6 | DL13: 54.151 | DM13: -128.8 | DN13: 54.151 | DO13: -129 | DP13: 54.151 | DQ13: -129.2 | DR13: 54.151 | DS13: -129.4 | DT13: 54.151 | DU13: -129.6 | DV13: 54.151 | DW13: -129.7 | DX13: 54.151 | DY13: -129.8 | DZ13: 54.151 | EA13: -130 | EB13: 54.151 | EC13: -130.1 | ED13: 54.151 | EE13: -130.2 | EF13: 54.151 | EG13: -130.4 | EH13: 54.15 | EI13: -130.5 | EJ13: 54.148 | EK13: -130.6 | EL13: 54.147 | EM13: -130.8 | EN13: 54.145 | EO13: -130.9 | EP13: 54.144 | EQ13: -131 | ER13: 54.142 | ES13: -131.2 | ET13: 54.142 | EU13: -131.2 | EV13: 54.144 | EW13: -130.8 | EX13: 54.145 | EY13: -130.5 | EZ13: 54.146 | FA13: -130.2 | FB13: 54.148 | FC13: -129.9 | FD13: 54.15 | FE13: -129.6 | FF13: 54.151 | FG13: -129.3 | FH13: 54.151 | FI13: -129 | FJ13: 54.151 | FK13: -128.8 | FL13: 54.151 | FM13: -128.5 | FN13: 54.151 | FO13: -128.3 | FP13: 54.151 | FQ13: -128.1 | FR13: 54.151 | FS13: -127.9 | FT13: 54.151 | FU13: -127.7 | FV13: 54.151 | FW13: -127.5 | FX13: 54.151 | FY13: -127.3 | FZ13: 54.151 | GA13: -127.1 | GB13: 54.151 | GC13: -126.9 | GD13: 54.152 | GE13: -126.8 | GF13: 54.146 | GG13: -126.3 | GH13: 54.148 | GI13: -126 | GJ13: 54.147 | GK13: -125.6 | GL13: 54.149 | GM13: -125.4 | GN13: 54.151 | GO13: -125.2 | GP13: 54.154 | GQ13: -125 | GR13: 54.159 | GS13: -124.7 | GT13: 54.163 | GU13: -124.4 | GV13: 54.164 | GW13: -124.5 | GX13: 54.162 | GY13: -124.8 | GZ13: 54.163 | HA13: -124.8 | HB13: 54.166 | HC13: -124.7 | HD13: 54.173 | HE13: -124.9 | HF13: 54.162 | HG13: -125.2 | HH13: 54.163 | HI13: -125.2 | HJ13: 54.167 | HK13: -125.1 | HL13: 54.167 | HM13: -125.3 | HN13: 54.167 | HO13: -125.4 | HP13: 54.165 | HQ13: -125.6 | HR13: 54.165 | HS13: -125.8 | HT13: 54.164 | HU13: -126 | HV13: 54.162 | HW13: -126.3 | HX13: 54.169 | HY13: -126.5 | HZ13: 54.16 | IA13: -126.7 | IB13: 54.159 | IC13: -126.9 | ID13: 54.157 | IE13: -127.2 | IF13: 54.157 | IG13: -127.3 | IH13: 54.156 | II13: -127.5 | IJ13: 54.153 | IK13: -127.8 | IL13: 54.15 | IM13: -128.2 | IN13: 54.148 | IO13: -128.5 | IP13: 54.146 | IQ13: -128.8 | IR13: 54.145 | IS13: -129 | IT13: 54.144 | IU13: -129.4 | IV13: 54.143 | IW13: -129.6 | IX13: 54.151 | IY13: -130 | IZ13: 54.151 | JA13: -130.2 | JB13: 54.151 | JC13: -130.4 | JD13: 54.151 | JE13: -130.5 | JF13: 54.151 | JG13: -130.7 | JH13: 54.151 | JI13: -130.8 | JJ13: 54.151 | JK13: -130.9 | JL13: 54.151 | JM13: -131 | JN13: 54.151 | JO13: -131.1 | JP13: 54.151 | JQ13: -131.2 | JR13: 54.151 | JS13: -131.3 | JT13: 54.151 | JU13: -131.4 | JV13: 54.151 | JW13: -131.5 | JX13: 54.15 | JY13: -131.4 | JZ13: 54.148 | KA13: -131.4 | KB13: 54.147 | KC13: -131.3 | KD13: 54.145 | KE13: -131.3 | KF13: 54.144 | KG13: -131.2 | KH13: 54.142 | KI13: -131.2 | KJ13: 54.155 | KK13: 0.0113
A14: 24.287 | B14: 54.923 | C14: -126.6 | D14: 54.897 | E14: -132.5 | F14: 54.898 | G14: -132.3 | H14: 54.9 | I14: -132.2 | J14: 54.901 | K14: -132.1 | L14: 54.903 | M14: -131.9 | N14: 54.904 | O14: -131.8 | P14: 54.906 | Q14: -131.7 | R14: 54.906 | S14: -131.5 | T14: 54.906 | U14: -131.4 | V14: 54.906 | W14: -131.3 | X14: 54.906 | Y14: -131.1 | Z14: 54.906 | AA14: -131 | AB14: 54.906 | AC14: -130.9 | AD14: 54.906 | AE14: -130.7 | AF14: 54.905 | AG14: -130.5 | AH14: 54.905 | AI14: -130.3 | AJ14: 54.905 | AK14: -130 | AL14: 54.905 | AM14: -129.8 | AN14: 54.906 | AO14: -129.6 | AP14: 54.898 | AQ14: -129.2 | AR14: 54.899 | AS14: -128.9 | AT14: 54.901 | AU14: -128.5 | AV14: 54.902 | AW14: -128.3 | AX14: 54.904 | AY14: -128 | AZ14: 54.907 | BA14: -127.8 | BB14: 54.911 | BC14: -127.5 | BD14: 54.914 | BE14: -127.2 | BF14: 54.915 | BG14: -127.1 | BH14: 54.914 | BI14: -127.2 | BJ14: 54.915 | BK14: -127.2 | BL14: 54.918 | BM14: -126.9 | BN14: 54.926 | BO14: -126.9 | BP14: 54.917 | BQ14: -127 | BR14: 54.918 | BS14: -126.9 | BT14: 54.921 | BU14: -126.6 | BV14: 54.922 | BW14: -126.6 | BX14: 54.923 | BY14: -126.6 | BZ14: 54.922 | CA14: -126.6 | CB14: 54.921 | CC14: -126.6 | CD14: 54.918 | CE14: -126.9 | CF14: 54.917 | CG14: -127 | CH14: 54.926 | CI14: -126.9 | CJ14: 54.918 | CK14: -126.9 | CL14: 54.915 | CM14: -127.2 | CN14: 54.914 | CO14: -127.2 | CP14: 54.915 | CQ14: -127.1 | CR14: 54.914 | CS14: -127.2 | CT14: 54.911 | CU14: -127.5 | CV14: 54.907 | CW14: -127.8 | CX14: 54.904 | CY14: -128 | CZ14: 54.902 | DA14: -128.3 | DB14: 54.901 | DC14: -128.5 | DD14: 54.899 | DE14: -128.9 | DF14: 54.898 | DG14: -129.2 | DH14: 54.906 | DI14: -129.6 | DJ14: 54.905 | DK14: -129.8 | DL14: 54.905 | DM14: -130 | DN14: 54.905 | DO14: -130.3 | DP14: 54.905 | DQ14: -130.5 | DR14: 54.906 | DS14: -130.7 | DT14: 54.906 | DU14: -130.9 | DV14: 54.906 | DW14: -131 | DX14: 54.906 | DY14: -131.1 | DZ14: 54.906 | EA14: -131.3 | EB14: 54.906 | EC14: -131.4 | ED14: 54.906 | EE14: -131.5 | EF14: 54.906 | EG14: -131.7 | EH14: 54.904 | EI14: -131.8 | EJ14: 54.903 | EK14: -131.9 | EL14: 54.901 | EM14: -132.1 | EN14: 54.9 | EO14: -132.2 | EP14: 54.898 | EQ14: -132.3 | ER14: 54.897 | ES14: -132.5 | ET14: 54.897 | EU14: -132.5 | EV14: 54.898 | EW14: -132.1 | EX14: 54.9 | EY14: -131.8 | EZ14: 54.901 | FA14: -131.5 | FB14: 54.903 | FC14: -131.2 | FD14: 54.904 | FE14: -130.8 | FF14: 54.906 | FG14: -130.5 | FH14: 54.906 | FI14: -130.3 | FJ14: 54.906 | FK14: -130 | FL14: 54.906 | FM14: -129.8 | FN14: 54.906 | FO14: -129.6 | FP14: 54.906 | FQ14: -129.3 | FR14: 54.906 | FS14: -129.1 | FT14: 54.906 | FU14: -128.9 | FV14: 54.906 | FW14: -128.7 | FX14: 54.906 | FY14: -128.5 | FZ14: 54.906 | GA14: -128.3 | GB14: 54.906 | GC14: -128.1 | GD14: 54.906 | GE14: -128 | GF14: 54.901 | GG14: -127.5 | GH14: 54.903 | GI14: -127.2 | GJ14: 54.902 | GK14: -126.8 | GL14: 54.903 | GM14: -126.6 | GN14: 54.906 | GO14: -126.4 | GP14: 54.909 | GQ14: -126.1 | GR14: 54.915 | GS14: -125.8 | GT14: 54.919 | GU14: -125.6 | GV14: 54.92 | GW14: -125.6 | GX14: 54.917 | GY14: -125.9 | GZ14: 54.919 | HA14: -125.9 | HB14: 54.922 | HC14: -125.8 | HD14: 54.929 | HE14: -126.1 | HF14: 54.918 | HG14: -126.4 | HH14: 54.919 | HI14: -126.4 | HJ14: 54.923 | HK14: -126.3 | HL14: 54.922 | HM14: -126.4 | HN14: 54.923 | HO14: -126.6 | HP14: 54.921 | HQ14: -126.8 | HR14: 54.921 | HS14: -127 | HT14: 54.92 | HU14: -127.2 | HV14: 54.917 | HW14: -127.5 | HX14: 54.925 | HY14: -127.7 | HZ14: 54.915 | IA14: -127.9 | IB14: 54.914 | IC14: -128.1 | ID14: 54.913 | IE14: -128.4 | IF14: 54.912 | IG14: -128.5 | IH14: 54.911 | II14: -128.7 | IJ14: 54.908 | IK14: -129 | IL14: 54.905 | IM14: -129.4 | IN14: 54.903 | IO14: -129.7 | IP14: 54.901 | IQ14: -130 | IR14: 54.9 | IS14: -130.3 | IT14: 54.898 | IU14: -130.6 | IV14: 54.897 | IW14: -130.9 | IX14: 54.906 | IY14: -131.3 | IZ14: 54.905 | JA14: -131.5 | JB14: 54.905 | JC14: -131.7 | JD14: 54.905 | JE14: -131.8 | JF14: 54.905 | JG14: -132 | JH14: 54.906 | JI14: -132.1 | JJ14: 54.906 | JK14: -132.3 | JL14: 54.906 | JM14: -132.4 | JN14: 54.906 | JO14: -132.5 | JP14: 54.906 | JQ14: -132.6 | JR14: 54.906 | JS14: -132.6 | JT14: 54.906 | JU14: -132.7 | JV14: 54.906 | JW14: -132.8 | JX14: 54.904 | JY14: -132.7 | JZ14: 54.903 | KA14: -132.7 | KB14: 54.901 | KC14: -132.6 | KD14: 54.9 | KE14: -132.6 | KF14: 54.898 | KG14: -132.5 | KH14: 54.897 | KI14: -132.5 | KJ14: 54.91 | KK14: 0.0124
A15: 24.97 | B15: 55.68 | C15: -127.8 | D15: 55.653 | E15: -133.9 | F15: 55.654 | G15: -133.7 | H15: 55.656 | I15: -133.6 | J15: 55.657 | K15: -133.4 | L15: 55.659 | M15: -133.3 | N15: 55.66 | O15: -133.2 | P15: 55.662 | Q15: -133 | R15: 55.662 | S15: -132.9 | T15: 55.662 | U15: -132.7 | V15: 55.662 | W15: -132.6 | X15: 55.662 | Y15: -132.5 | Z15: 55.662 | AA15: -132.3 | AB15: 55.662 | AC15: -132.2 | AD15: 55.661 | AE15: -132 | AF15: 55.661 | AG15: -131.8 | AH15: 55.661 | AI15: -131.6 | AJ15: 55.661 | AK15: -131.4 | AL15: 55.661 | AM15: -131.1 | AN15: 55.661 | AO15: -130.9 | AP15: 55.653 | AQ15: -130.5 | AR15: 55.655 | AS15: -130.2 | AT15: 55.657 | AU15: -129.8 | AV15: 55.658 | AW15: -129.5 | AX15: 55.661 | AY15: -129.3 | AZ15: 55.663 | BA15: -129 | BB15: 55.667 | BC15: -128.7 | BD15: 55.671 | BE15: -128.4 | BF15: 55.672 | BG15: -128.3 | BH15: 55.67 | BI15: -128.5 | BJ15: 55.672 | BK15: -128.4 | BL15: 55.675 | BM15: -128.1 | BN15: 55.683 | BO15: -128.2 | BP15: 55.674 | BQ15: -128.2 | BR15: 55.675 | BS15: -128.1 | BT15: 55.678 | BU15: -127.9 | BV15: 55.679 | BW15: -127.9 | BX15: 55.68 | BY15: -127.8 | BZ15: 55.679 | CA15: -127.9 | CB15: 55.678 | CC15: -127.9 | CD15: 55.675 | CE15: -128.1 | CF15: 55.674 | CG15: -128.2 | CH15: 55.683 | CI15: -128.2 | CJ15: 55.675 | CK15: -128.1 | CL15: 55.672 | CM15: -128.4 | CN15: 55.67 | CO15: -128.5 | CP15: 55.672 | CQ15: -128.3 | CR15: 55.671 | CS15: -128.4 | CT15: 55.667 | CU15: -128.7 | CV15: 55.663 | CW15: -129 | CX15: 55.661 | CY15: -129.3 | CZ15: 55.658 | DA15: -129.5 | DB15: 55.657 | DC15: -129.8 | DD15: 55.655 | DE15: -130.2 | DF15: 55.653 | DG15: -130.5 | DH15: 55.661 | DI15: -130.9 | DJ15: 55.661 | DK15: -131.1 | DL15: 55.661 | DM15: -131.4 | DN15: 55.661 | DO15: -131.6 | DP15: 55.661 | DQ15: -131.8 | DR15: 55.661 | DS15: -132 | DT15: 55.662 | DU15: -132.2 | DV15: 55.662 | DW15: -132.3 | DX15: 55.662 | DY15: -132.5 | DZ15: 55.662 | EA15: -132.6 | EB15: 55.662 | EC15: -132.7 | ED15: 55.662 | EE15: -132.9 | EF15: 55.662 | EG15: -133 | EH15: 55.66 | EI15: -133.2 | EJ15: 55.659 | EK15: -133.3 | EL15: 55.657 | EM15: -133.4 | EN15: 55.656 | EO15: -133.6 | EP15: 55.654 | EQ15: -133.7 | ER15: 55.653 | ES15: -133.9 | ET15: 55.653 | EU15: -133.9 | EV15: 55.654 | EW15: -133.5 | EX15: 55.655 | EY15: -133.2 | EZ15: 55.657 | FA15: -132.8 | FB15: 55.658 | FC15: -132.5 | FD15: 55.66 | FE15: -132.2 | FF15: 55.662 | FG15: -131.9 | FH15: 55.662 | FI15: -131.6 | FJ15: 55.662 | FK15: -131.3 | FL15: 55.662 | FM15: -131.1 | FN15: 55.662 | FO15: -130.9 | FP15: 55.662 | FQ15: -130.6 | FR15: 55.662 | FS15: -130.4 | FT15: 55.662 | FU15: -130.2 | FV15: 55.661 | FW15: -130 | FX15: 55.661 | FY15: -129.8 | FZ15: 55.662 | GA15: -129.6 | GB15: 55.662 | GC15: -129.4 | GD15: 55.662 | GE15: -129.2 | GF15: 55.657 | GG15: -128.7 | GH15: 55.659 | GI15: -128.4 | GJ15: 55.658 | GK15: -128 | GL15: 55.66 | GM15: -127.8 | GN15: 55.662 | GO15: -127.6 | GP15: 55.666 | GQ15: -127.3 | GR15: 55.671 | GS15: -127 | GT15: 55.676 | GU15: -126.8 | GV15: 55.677 | GW15: -126.8 | GX15: 55.674 | GY15: -127.1 | GZ15: 55.676 | HA15: -127.1 | HB15: 55.679 | HC15: -127 | HD15: 55.686 | HE15: -127.3 | HF15: 55.675 | HG15: -127.6 | HH15: 55.676 | HI15: -127.6 | HJ15: 55.68 | HK15: -127.5 | HL15: 55.68 | HM15: -127.7 | HN15: 55.68 | HO15: -127.8 | HP15: 55.678 | HQ15: -128 | HR15: 55.678 | HS15: -128.2 | HT15: 55.677 | HU15: -128.4 | HV15: 55.674 | HW15: -128.8 | HX15: 55.682 | HY15: -129 | HZ15: 55.672 | IA15: -129.2 | IB15: 55.671 | IC15: -129.4 | ID15: 55.669 | IE15: -129.6 | IF15: 55.669 | IG15: -129.8 | IH15: 55.667 | II15: -130 | IJ15: 55.665 | IK15: -130.3 | IL15: 55.661 | IM15: -130.7 | IN15: 55.659 | IO15: -131 | IP15: 55.657 | IQ15: -131.3 | IR15: 55.656 | IS15: -131.6 | IT15: 55.654 | IU15: -132 | IV15: 55.653 | IW15: -132.3 | IX15: 55.661 | IY15: -132.6 | IZ15: 55.661 | JA15: -132.8 | JB15: 55.661 | JC15: -133 | JD15: 55.661 | JE15: -133.2 | JF15: 55.661 | JG15: -133.3 | JH15: 55.661 | JI15: -133.5 | JJ15: 55.662 | JK15: -133.6 | JL15: 55.661 | JM15: -133.7 | JN15: 55.661 | JO15: -133.8 | JP15: 55.661 | JQ15: -133.9 | JR15: 55.661 | JS15: -134 | JT15: 55.661 | JU15: -134.1 | JV15: 55.662 | JW15: -134.2 | JX15: 55.66 | JY15: -134.1 | JZ15: 55.659 | KA15: -134.1 | KB15: 55.657 | KC15: -134 | KD15: 55.656 | KE15: -134 | KF15: 55.654 | KG15: -133.9 | KH15: 55.653 | KI15: -133.9 | KJ15: 55.666 | KK15: 0.0135
A16: 25.672 | B16: 56.438 | C16: -129.1 | D16: 56.409 | E16: -135.3 | F16: 56.411 | G16: -135.1 | H16: 56.412 | I16: -135 | J16: 56.414 | K16: -134.9 | L16: 56.415 | M16: -134.7 | N16: 56.417 | O16: -134.6 | P16: 56.419 | Q16: -134.4 | R16: 56.418 | S16: -134.3 | T16: 56.418 | U16: -134.1 | V16: 56.418 | W16: -134 | X16: 56.418 | Y16: -133.9 | Z16: 56.418 | AA16: -133.7 | AB16: 56.419 | AC16: -133.6 | AD16: 56.418 | AE16: -133.4 | AF16: 56.418 | AG16: -133.1 | AH16: 56.418 | AI16: -132.9 | AJ16: 56.418 | AK16: -132.7 | AL16: 56.418 | AM16: -132.5 | AN16: 56.418 | AO16: -132.3 | AP16: 56.41 | AQ16: -131.8 | AR16: 56.411 | AS16: -131.5 | AT16: 56.414 | AU16: -131.1 | AV16: 56.416 | AW16: -130.9 | AX16: 56.418 | AY16: -130.6 | AZ16: 56.421 | BA16: -130.3 | BB16: 56.425 | BC16: -130 | BD16: 56.429 | BE16: -129.7 | BF16: 56.43 | BG16: -129.6 | BH16: 56.428 | BI16: -129.7 | BJ16: 56.43 | BK16: -129.7 | BL16: 56.433 | BM16: -129.4 | BN16: 56.441 | BO16: -129.4 | BP16: 56.432 | BQ16: -129.5 | BR16: 56.433 | BS16: -129.4 | BT16: 56.437 | BU16: -129.1 | BV16: 56.437 | BW16: -129.1 | BX16: 56.438 | BY16: -129.1 | BZ16: 56.437 | CA16: -129.1 | CB16: 56.437 | CC16: -129.1 | CD16: 56.433 | CE16: -129.4 | CF16: 56.432 | CG16: -129.5 | CH16: 56.441 | CI16: -129.4 | CJ16: 56.433 | CK16: -129.4 | CL16: 56.43 | CM16: -129.7 | CN16: 56.428 | CO16: -129.7 | CP16: 56.43 | CQ16: -129.6 | CR16: 56.429 | CS16: -129.7 | CT16: 56.425 | CU16: -130 | CV16: 56.421 | CW16: -130.3 | CX16: 56.418 | CY16: -130.6 | CZ16: 56.416 | DA16: -130.9 | DB16: 56.414 | DC16: -131.1 | DD16: 56.411 | DE16: -131.5 | DF16: 56.41 | DG16: -131.8 | DH16: 56.418 | DI16: -132.3 | DJ16: 56.418 | DK16: -132.5 | DL16: 56.418 | DM16: -132.7 | DN16: 56.418 | DO16: -132.9 | DP16: 56.418 | DQ16: -133.1 | DR16: 56.418 | DS16: -133.4 | DT16: 56.419 | DU16: -133.6 | DV16: 56.418 | DW16: -133.7 | DX16: 56.418 | DY16: -133.9 | DZ16: 56.418 | EA16: -134 | EB16: 56.418 | EC16: -134.1 | ED16: 56.418 | EE16: -134.3 | EF16: 56.419 | EG16: -134.4 | EH16: 56.417 | EI16: -134.6 | EJ16: 56.415 | EK16: -134.7 | EL16: 56.414 | EM16: -134.9 | EN16: 56.412 | EO16: -135 | EP16: 56.411 | EQ16: -135.1 | ER16: 56.409 | ES16: -135.3 | ET16: 56.409 | EU16: -135.3 | EV16: 56.411 | EW16: -134.9 | EX16: 56.412 | EY16: -134.6 | EZ16: 56.414 | FA16: -134.2 | FB16: 56.415 | FC16: -133.9 | FD16: 56.417 | FE16: -133.6 | FF16: 56.419 | FG16: -133.2 | FH16: 56.418 | FI16: -133 | FJ16: 56.418 | FK16: -132.7 | FL16: 56.418 | FM16: -132.4 | FN16: 56.418 | FO16: -132.2 | FP16: 56.418 | FQ16: -132 | FR16: 56.419 | FS16: -131.7 | FT16: 56.418 | FU16: -131.5 | FV16: 56.418 | FW16: -131.3 | FX16: 56.418 | FY16: -131.1 | FZ16: 56.418 | GA16: -130.9 | GB16: 56.418 | GC16: -130.7 | GD16: 56.419 | GE16: -130.5 | GF16: 56.414 | GG16: -130 | GH16: 56.417 | GI16: -129.7 | GJ16: 56.415 | GK16: -129.3 | GL16: 56.417 | GM16: -129.1 | GN16: 56.42 | GO16: -128.8 | GP16: 56.423 | GQ16: -128.6 | GR16: 56.429 | GS16: -128.2 | GT16: 56.434 | GU16: -128 | GV16: 56.435 | GW16: -128.1 | GX16: 56.432 | GY16: -128.4 | GZ16: 56.434 | HA16: -128.4 | HB16: 56.437 | HC16: -128.3 | HD16: 56.444 | HE16: -128.5 | HF16: 56.433 | HG16: -128.8 | HH16: 56.434 | HI16: -128.9 | HJ16: 56.438 | HK16: -128.7 | HL16: 56.438 | HM16: -128.9 | HN16: 56.438 | HO16: -129.1 | HP16: 56.437 | HQ16: -129.3 | HR16: 56.436 | HS16: -129.5 | HT16: 56.435 | HU16: -129.7 | HV16: 56.432 | HW16: -130 | HX16: 56.44 | HY16: -130.3 | HZ16: 56.43 | IA16: -130.5 | IB16: 56.429 | IC16: -130.7 | ID16: 56.427 | IE16: -130.9 | IF16: 56.426 | IG16: -131.1 | IH16: 56.425 | II16: -131.3 | IJ16: 56.422 | IK16: -131.6 | IL16: 56.419 | IM16: -132 | IN16: 56.416 | IO16: -132.4 | IP16: 56.414 | IQ16: -132.7 | IR16: 56.413 | IS16: -133 | IT16: 56.411 | IU16: -133.3 | IV16: 56.41 | IW16: -133.6 | IX16: 56.418 | IY16: -134 | IZ16: 56.418 | JA16: -134.2 | JB16: 56.418 | JC16: -134.4 | JD16: 56.418 | JE16: -134.6 | JF16: 56.418 | JG16: -134.8 | JH16: 56.418 | JI16: -134.9 | JJ16: 56.419 | JK16: -135.1 | JL16: 56.418 | JM16: -135.2 | JN16: 56.418 | JO16: -135.3 | JP16: 56.418 | JQ16: -135.4 | JR16: 56.418 | JS16: -135.5 | JT16: 56.418 | JU16: -135.5 | JV16: 56.419 | JW16: -135.6 | JX16: 56.417 | JY16: -135.6 | JZ16: 56.415 | KA16: -135.5 | KB16: 56.414 | KC16: -135.5 | KD16: 56.412 | KE16: -135.4 | KF16: 56.411 | KG16: -135.3 | KH16: 56.409 | KI16: -135.3 | KJ16: 56.424 | KK16: 0.0147
A17: 26.394 | B17: 57.198 | C17: -130.4 | D17: 57.167 | E17: -136.8 | F17: 57.169 | G17: -136.6 | H17: 57.17 | I17: -136.5 | J17: 57.172 | K17: -136.3 | L17: 57.173 | M17: -136.2 | N17: 57.175 | O17: -136 | P17: 57.176 | Q17: -135.9 | R17: 57.176 | S17: -135.7 | T17: 57.176 | U17: -135.6 | V17: 57.176 | W17: -135.5 | X17: 57.176 | Y17: -135.3 | Z17: 57.176 | AA17: -135.2 | AB17: 57.176 | AC17: -135 | AD17: 57.176 | AE17: -134.8 | AF17: 57.176 | AG17: -134.6 | AH17: 57.176 | AI17: -134.4 | AJ17: 57.176 | AK17: -134.1 | AL17: 57.176 | AM17: -133.9 | AN17: 57.176 | AO17: -133.7 | AP17: 57.168 | AQ17: -133.2 | AR17: 57.169 | AS17: -132.9 | AT17: 57.172 | AU17: -132.5 | AV17: 57.174 | AW17: -132.2 | AX17: 57.176 | AY17: -132 | AZ17: 57.179 | BA17: -131.7 | BB17: 57.183 | BC17: -131.3 | BD17: 57.188 | BE17: -131 | BF17: 57.189 | BG17: -131 | BH17: 57.187 | BI17: -131.1 | BJ17: 57.189 | BK17: -131 | BL17: 57.192 | BM17: -130.7 | BN17: 57.2 | BO17: -130.8 | BP17: 57.191 | BQ17: -130.8 | BR17: 57.192 | BS17: -130.7 | BT17: 57.196 | BU17: -130.4 | BV17: 57.196 | BW17: -130.4 | BX17: 57.198 | BY17: -130.4 | BZ17: 57.196 | CA17: -130.4 | CB17: 57.196 | CC17: -130.4 | CD17: 57.192 | CE17: -130.7 | CF17: 57.191 | CG17: -130.8 | CH17: 57.2 | CI17: -130.8 | CJ17: 57.192 | CK17: -130.7 | CL17: 57.189 | CM17: -131 | CN17: 57.187 | CO17: -131.1 | CP17: 57.189 | CQ17: -131 | CR17: 57.188 | CS17: -131 | CT17: 57.183 | CU17: -131.3 | CV17: 57.179 | CW17: -131.7 | CX17: 57.176 | CY17: -132 | CZ17: 57.174 | DA17: -132.2 | DB17: 57.172 | DC17: -132.5 | DD17: 57.169 | DE17: -132.9 | DF17: 57.168 | DG17: -133.2 | DH17: 57.176 | DI17: -133.7 | DJ17: 57.176 | DK17: -133.9 | DL17: 57.176 | DM17: -134.1 | DN17: 57.176 | DO17: -134.4 | DP17: 57.176 | DQ17: -134.6 | DR17: 57.176 | DS17: -134.8 | DT17: 57.176 | DU17: -135 | DV17: 57.176 | DW17: -135.2 | DX17: 57.176 | DY17: -135.3 | DZ17: 57.176 | EA17: -135.5 | EB17: 57.176 | EC17: -135.6 | ED17: 57.176 | EE17: -135.7 | EF17: 57.176 | EG17: -135.9 | EH17: 57.175 | EI17: -136 | EJ17: 57.173 | EK17: -136.2 | EL17: 57.172 | EM17: -136.3 | EN17: 57.17 | EO17: -136.5 | EP17: 57.169 | EQ17: -136.6 | ER17: 57.167 | ES17: -136.8 | ET17: 57.167 | EU17: -136.8 | EV17: 57.169 | EW17: -136.4 | EX17: 57.17 | EY17: -136.1 | EZ17: 57.171 | FA17: -135.7 | FB17: 57.173 | FC17: -135.3 | FD17: 57.175 | FE17: -135 | FF17: 57.176 | FG17: -134.7 | FH17: 57.176 | FI17: -134.4 | FJ17: 57.176 | FK17: -134.1 | FL17: 57.176 | FM17: -133.9 | FN17: 57.176 | FO17: -133.6 | FP17: 57.176 | FQ17: -133.4 | FR17: 57.176 | FS17: -133.1 | FT17: 57.176 | FU17: -132.9 | FV17: 57.176 | FW17: -132.7 | FX17: 57.176 | FY17: -132.5 | FZ17: 57.176 | GA17: -132.2 | GB17: 57.176 | GC17: -132.1 | GD17: 57.177 | GE17: -131.9 | GF17: 57.172 | GG17: -131.4 | GH17: 57.175 | GI17: -131 | GJ17: 57.181 | GK17: -130.6 | GL17: 57.183 | GM17: -130.4 | GN17: 57.187 | GO17: -130.1 | GP17: 57.191 | GQ17: -129.9 | GR17: 57.188 | GS17: -129.5 | GT17: 57.194 | GU17: -129.3 | GV17: 57.194 | GW17: -129.3 | GX17: 57.191 | GY17: -129.7 | GZ17: 57.193 | HA17: -129.7 | HB17: 57.196 | HC17: -129.6 | HD17: 57.203 | HE17: -129.8 | HF17: 57.192 | HG17: -130.1 | HH17: 57.193 | HI17: -130.2 | HJ17: 57.198 | HK17: -130 | HL17: 57.197 | HM17: -130.2 | HN17: 57.198 | HO17: -130.4 | HP17: 57.196 | HQ17: -130.6 | HR17: 57.195 | HS17: -130.8 | HT17: 57.194 | HU17: -131.1 | HV17: 57.191 | HW17: -131.4 | HX17: 57.199 | HY17: -131.6 | HZ17: 57.189 | IA17: -131.8 | IB17: 57.188 | IC17: -132.1 | ID17: 57.186 | IE17: -132.3 | IF17: 57.185 | IG17: -132.5 | IH17: 57.184 | II17: -132.7 | IJ17: 57.181 | IK17: -133 | IL17: 57.177 | IM17: -133.4 | IN17: 57.174 | IO17: -133.8 | IP17: 57.172 | IQ17: -134.1 | IR17: 57.17 | IS17: -134.4 | IT17: 57.169 | IU17: -134.8 | IV17: 57.168 | IW17: -135.1 | IX17: 57.176 | IY17: -135.5 | IZ17: 57.176 | JA17: -135.7 | JB17: 57.176 | JC17: -135.9 | JD17: 57.176 | JE17: -136.1 | JF17: 57.176 | JG17: -136.2 | JH17: 57.176 | JI17: -136.4 | JJ17: 57.176 | JK17: -136.5 | JL17: 57.176 | JM17: -136.7 | JN17: 57.176 | JO17: -136.8 | JP17: 57.176 | JQ17: -136.9 | JR17: 57.176 | JS17: -137 | JT17: 57.176 | JU17: -137 | JV17: 57.176 | JW17: -137.1 | JX17: 57.175 | JY17: -137.1 | JZ17: 57.173 | KA17: -137 | KB17: 57.172 | KC17: -137 | KD17: 57.17 | KE17: -136.9 | KF17: 57.169 | KG17: -136.8 | KH17: 57.167 | KI17: -136.8 | KJ17: 57.182 | KK17: 0.0156
A18: 27.137 | B18: 57.958 | C18: -131.8 | D18: 57.926 | E18: -138.3 | F18: 57.927 | G18: -138.2 | H18: 57.929 | I18: -138 | J18: 57.93 | K18: -137.9 | L18: 57.932 | M18: -137.7 | N18: 57.933 | O18: -137.6 | P18: 57.935 | Q18: -137.4 | R18: 57.935 | S18: -137.3 | T18: 57.935 | U18: -137.1 | V18: 57.935 | W18: -137 | X18: 57.935 | Y18: -136.8 | Z18: 57.935 | AA18: -136.7 | AB18: 57.935 | AC18: -136.5 | AD18: 57.935 | AE18: -136.3 | AF18: 57.934 | AG18: -136.1 | AH18: 57.934 | AI18: -135.8 | AJ18: 57.934 | AK18: -135.6 | AL18: 57.934 | AM18: -135.4 | AN18: 57.935 | AO18: -135.2 | AP18: 57.927 | AQ18: -134.6 | AR18: 57.928 | AS18: -134.3 | AT18: 57.931 | AU18: -133.9 | AV18: 57.933 | AW18: -133.6 | AX18: 57.935 | AY18: -133.4 | AZ18: 57.938 | BA18: -133.1 | BB18: 57.943 | BC18: -132.7 | BD18: 57.948 | BE18: -132.4 | BF18: 57.949 | BG18: -132.3 | BH18: 57.947 | BI18: -132.5 | BJ18: 57.949 | BK18: -132.4 | BL18: 57.952 | BM18: -132.1 | BN18: 57.96 | BO18: -132.1 | BP18: 57.951 | BQ18: -132.2 | BR18: 57.953 | BS18: -132.1 | BT18: 57.956 | BU18: -131.8 | BV18: 57.957 | BW18: -131.8 | BX18: 57.958 | BY18: -131.8 | BZ18: 57.957 | CA18: -131.8 | CB18: 57.956 | CC18: -131.8 | CD18: 57.953 | CE18: -132.1 | CF18: 57.951 | CG18: -132.2 | CH18: 57.96 | CI18: -132.1 | CJ18: 57.952 | CK18: -132.1 | CL18: 57.949 | CM18: -132.4 | CN18: 57.947 | CO18: -132.5 | CP18: 57.949 | CQ18: -132.3 | CR18: 57.948 | CS18: -132.4 | CT18: 57.943 | CU18: -132.7 | CV18: 57.938 | CW18: -133.1 | CX18: 57.935 | CY18: -133.4 | CZ18: 57.933 | DA18: -133.6 | DB18: 57.931 | DC18: -133.9 | DD18: 57.928 | DE18: -134.3 | DF18: 57.927 | DG18: -134.6 | DH18: 57.935 | DI18: -135.2 | DJ18: 57.934 | DK18: -135.4 | DL18: 57.934 | DM18: -135.6 | DN18: 57.934 | DO18: -135.8 | DP18: 57.934 | DQ18: -136.1 | DR18: 57.935 | DS18: -136.3 | DT18: 57.935 | DU18: -136.5 | DV18: 57.935 | DW18: -136.7 | DX18: 57.935 | DY18: -136.8 | DZ18: 57.935 | EA18: -137 | EB18: 57.935 | EC18: -137.1 | ED18: 57.935 | EE18: -137.3 | EF18: 57.935 | EG18: -137.4 | EH18: 57.933 | EI18: -137.6 | EJ18: 57.932 | EK18: -137.7 | EL18: 57.93 | EM18: -137.9 | EN18: 57.929 | EO18: -138 | EP18: 57.927 | EQ18: -138.2 | ER18: 57.926 | ES18: -138.3 | ET18: 57.926 | EU18: -138.3 | EV18: 57.927 | EW18: -138 | EX18: 57.929 | EY18: -137.6 | EZ18: 57.93 | FA18: -137.2 | FB18: 57.932 | FC18: -136.9 | FD18: 57.933 | FE18: -136.5 | FF18: 57.935 | FG18: -136.2 | FH18: 57.935 | FI18: -135.9 | FJ18: 57.935 | FK18: -135.6 | FL18: 57.935 | FM18: -135.3 | FN18: 57.935 | FO18: -135.1 | FP18: 57.935 | FQ18: -134.8 | FR18: 57.935 | FS18: -134.6 | FT18: 57.935 | FU18: -134.3 | FV18: 57.935 | FW18: -134.1 | FX18: 57.935 | FY18: -133.9 | FZ18: 57.935 | GA18: -133.7 | GB18: 57.935 | GC18: -133.5 | GD18: 57.935 | GE18: -133.3 | GF18: 57.931 | GG18: -132.7 | GH18: 57.934 | GI18: -132.4 | GJ18: 57.94 | GK18: -132 | GL18: 57.943 | GM18: -131.8 | GN18: 57.947 | GO18: -131.5 | GP18: 57.951 | GQ18: -131.3 | GR18: 57.948 | GS18: -130.9 | GT18: 57.954 | GU18: -130.6 | GV18: 57.955 | GW18: -130.7 | GX18: 57.951 | GY18: -131 | GZ18: 57.953 | HA18: -131 | HB18: 57.957 | HC18: -130.9 | HD18: 57.963 | HE18: -131.2 | HF18: 57.952 | HG18: -131.5 | HH18: 57.953 | HI18: -131.6 | HJ18: 57.958 | HK18: -131.4 | HL18: 57.958 | HM18: -131.6 | HN18: 57.958 | HO18: -131.8 | HP18: 57.956 | HQ18: -132 | HR18: 57.955 | HS18: -132.2 | HT18: 57.954 | HU18: -132.5 | HV18: 57.951 | HW18: -132.8 | HX18: 57.959 | HY18: -133 | HZ18: 57.949 | IA18: -133.2 | IB18: 57.948 | IC18: -133.5 | ID18: 57.946 | IE18: -133.7 | IF18: 57.945 | IG18: -133.9 | IH18: 57.943 | II18: -134.1 | IJ18: 57.94 | IK18: -134.5 | IL18: 57.936 | IM18: -134.9 | IN18: 57.933 | IO18: -135.2 | IP18: 57.931 | IQ18: -135.6 | IR18: 57.929 | IS18: -135.9 | IT18: 57.928 | IU18: -136.3 | IV18: 57.927 | IW18: -136.6 | IX18: 57.935 | IY18: -137 | IZ18: 57.934 | JA18: -137.2 | JB18: 57.934 | JC18: -137.4 | JD18: 57.934 | JE18: -137.6 | JF18: 57.934 | JG18: -137.8 | JH18: 57.935 | JI18: -137.9 | JJ18: 57.935 | JK18: -138.1 | JL18: 57.935 | JM18: -138.2 | JN18: 57.935 | JO18: -138.3 | JP18: 57.934 | JQ18: -138.4 | JR18: 57.935 | JS18: -138.5 | JT18: 57.935 | JU18: -138.6 | JV18: 57.935 | JW18: -138.7 | JX18: 57.934 | JY18: -138.6 | JZ18: 57.932 | KA18: -138.6 | KB18: 57.93 | KC18: -138.5 | KD18: 57.929 | KE18: -138.5 | KF18: 57.927 | KG18: -138.4 | KH18: 57.926 | KI18: -138.3 | KJ18: 57.941 | KK18: 0.0169
... A256: 20000 | B256: 85.85 | C256: 113.42 | D256: 36.009 | E256: -111.7 | F256: 41.028 | G256: -121 | H256: 44.25 | I256: -124.6 | J256: 46.609 | K256: -126.5 | L256: 48.467 | M256: -127.7 | N256: 49.999 | O256: -128.5 | P256: 51.301 | Q256: -129 | R256: 47.664 | S256: -118.1 | T256: 42.995 | U256: -88.41 | V256: 42.91 | W256: -29.59 | X256: 47.576 | Y256: 0.7375 | Z256: 51.238 | AA256: 11.898 | AB256: 53.924 | AC256: 17.245 | AD256: 47.267 | AE256: -39.3 | AF256: 53.161 | AG256: -104.9 | AH256: 58.501 | AI256: -119.4 | AJ256: 61.922 | AK256: -124.6 | AL256: 64.397 | AM256: -127.3 | AN256: 66.33 | AO256: -128.9 | AP256: 68.896 | AQ256: -128.7 | AR256: 70.547 | AS256: -124.9 | AT256: 73.829 | AU256: -125 | AV256: 76.832 | AW256: -129.4 | AX256: 78.858 | AY256: -135.8 | AZ256: 80.212 | BA256: -144.2 | BB256: 80.327 | BC256: -152.7 | BD256: 79.477 | BE256: -159 | BF256: 79.162 | BG256: -163.9 | BH256: 77.596 | BI256: -169.2 | BJ256: 77.591 | BK256: -171.9 | BL256: 76.091 | BM256: 170.86 | BN256: 78.706 | BO256: 161.7 | BP256: 79.576 | BQ256: 157.22 | BR256: 82.26 | BS256: 143.54 | BT256: 83.104 | BU256: 140.37 | BV256: 84.699 | BW256: 131.2 | BX256: 85.85 | BY256: 113.42 | BZ256: 84.699 | CA256: 131.2 | CB256: 83.104 | CC256: 140.37 | CD256: 82.26 | CE256: 143.54 | CF256: 79.576 | CG256: 157.22 | CH256: 78.706 | CI256: 161.7 | CJ256: 76.091 | CK256: 170.86 | CL256: 77.591 | CM256: -171.9 | CN256: 77.596 | CO256: -169.2 | CP256: 79.162 | CQ256: -163.9 | CR256: 79.477 | CS256: -159 | CT256: 80.327 | CU256: -152.7 | CV256: 80.212 | CW256: -144.2 | CX256: 78.858 | CY256: -135.8 | CZ256: 76.832 | DA256: -129.4 | DB256: 73.829 | DC256: -125 | DD256: 70.547 | DE256: -124.9 | DF256: 68.896 | DG256: -128.7 | DH256: 66.33 | DI256: -128.9 | DJ256: 64.397 | DK256: -127.3 | DL256: 61.922 | DM256: -124.6 | DN256: 58.501 | DO256: -119.4 | DP256: 53.161 | DQ256: -104.9 | DR256: 47.267 | DS256: -39.3 | DT256: 53.924 | DU256: 17.245 | DV256: 51.238 | DW256: 11.897 | DX256: 47.576 | DY256: 0.7374 | DZ256: 42.91 | EA256: -29.59 | EB256: 42.996 | EC256: -88.41 | ED256: 47.664 | EE256: -118.1 | EF256: 51.301 | EG256: -129 | EH256: 49.999 | EI256: -128.5 | EJ256: 48.467 | EK256: -127.7 | EL256: 46.609 | EM256: -126.5 | EN256: 44.25 | EO256: -124.6 | EP256: 41.028 | EQ256: -121 | ER256: 36.009 | ES256: -111.7 | ET256: 36.009 | EU256: -111.7 | EV256: 40.571 | EW256: 148.7 | EX256: 43.819 | EY256: 38.624 | EZ256: 46.238 | FA256: -73.3 | FB256: 48.148 | FC256: 175.9 | FD256: 49.722 | FE256: 67.857 | FF256: 51.057 | FG256: -36.27 | FH256: 50.554 | FI256: -132.9 | FJ256: 50.057 | FK256: 136.88 | FL256: 49.579 | FM256: 53.766 | FN256: 49.133 | FO256: -21.54 | FP256: 48.737 | FQ256: -88.41 | FR256: 48.408 | FS256: -146.3 | FT256: 52.829 | FU256: 107.73 | FV256: 57.381 | FW256: 46.228 | FX256: 60.551 | FY256: 3.9981 | FZ256: 62.914 | GA256: -25.14 | GB256: 64.786 | GC256: -42.76 | GD256: 66.331 | GE256: -49.36 | GF256: 69.037 | GG256: -40.02 | GH256: 71.936 | GI256: -17.17 | GJ256: 75.969 | GK256: -1.25 | GL256: 77.469 | GM256: 20.552 | GN256: 77.841 | GO256: 67.841 | GP256: 80.006 | GQ256: 117.01 | GR256: 79.651 | GS256: 176.35 | GT256: 79.96 | GU256: -120.5 | GV256: 79.238 | GW256: -47.09 | GX256: 77.525 | GY256: 32.794 | GZ256: 77.182 | HA256: 126.21 | HB256: 76.34 | HC256: -147.7 | HD256: 79.09 | HE256: -53.48 | HF256: 79.6 | HG256: 52.056 | HH256: 82.315 | HI256: 152.95 | HJ256: 83.303 | HK256: -95.62 | HL256: 84.772 | HM256: 12.161 | HN256: 85.85 | HO256: 113.42 | HP256: 84.851 | HQ256: -110.1 | HR256: 83.169 | HS256: 16.309 | HT256: 82.283 | HU256: 136.42 | HV256: 79.78 | HW256: -96.85 | HX256: 78.673 | HY256: 16.997 | HZ256: 75.79 | IA256: 133.27 | IB256: 77.57 | IC256: -111.4 | ID256: 77.591 | IE256: -16.49 | IF256: 79.118 | IG256: 77.838 | IH256: 79.45 | II256: 164.14 | IJ256: 80.43 | IK256: -118.3 | IL256: 80.274 | IM256: -45.95 | IN256: 78.812 | IO256: 16.559 | IP256: 76.715 | IQ256: 69.225 | IR256: 73.783 | IS256: 109.44 | IT256: 70.494 | IU256: 134.92 | IV256: 68.838 | IW256: 146.68 | IX256: 66.32 | IY256: 151.63 | IZ256: 64.379 | JA256: 147.87 | JB256: 61.888 | JC256: 134.75 | JD256: 58.426 | JE256: 113.77 | JF256: 52.906 | JG256: 91.428 | JH256: 46.262 | JI256: 115.51 | JJ256: 53.749 | JK256: 118.92 | JL256: 50.994 | JM256: 47.81 | JN256: 47.408 | JO256: -39.82 | JP256: 43.99 | JQ256: -156.4 | JR256: 45.533 | JS256: 68.603 | JT256: 49.402 | JU256: -48.83 | JV256: 52.533 | JW256: -159.1 | JX256: 51.203 | JY256: 95.846 | JZ256: 49.631 | KA256: -13.5 | KB256: 47.712 | KC256: -126.2 | KD256: 45.245 | KE256: 118.67 | KF256: 41.792 | KG256: 2.5067 | KH256: 36.009 | KI256: -111.7 | KJ256: 75.029 | KK256: 10.822

Sheet Fläche
D5: Freq | E5: =Rohdaten!D4 -> 180° left | F5: =Rohdaten!F4 -> 175° left | G5: =Rohdaten!H4 -> 170° left | H5: =Rohdaten!J4 -> 165° left | I5: =Rohdaten!L4 -> 160° left | J5: =Rohdaten!N4 -> 155° left | K5: =Rohdaten!P4 -> 150° left | L5: =Rohdaten!R4 -> 145° left | M5: =Rohdaten!T4 -> 140° left | N5: =Rohdaten!V4 -> 135° left | O5: =Rohdaten!X4 -> 130° left | P5: =Rohdaten!Z4 -> 125° left | Q5: =Rohdaten!AB4 -> 120° left | R5: =Rohdaten!AD4 -> 115° left | S5: =Rohdaten!AF4 -> 110° left | T5: =Rohdaten!AH4 -> 105° left | U5: =Rohdaten!AJ4 -> 100° left | V5: =Rohdaten!AL4 -> 95° left | W5: =Rohdaten!AN4 -> 90° left | X5: =Rohdaten!AP4 -> 85° left | Y5: =Rohdaten!AR4 -> 80° left | Z5: =Rohdaten!AT4 -> 75° left | AA5: =Rohdaten!AV4 -> 70° left | AB5: =Rohdaten!AX4 -> 65° left | AC5: =Rohdaten!AZ4 -> 60° left | AD5: =Rohdaten!BB4 -> 55° left | AE5: =Rohdaten!BD4 -> 50° left | AF5: =Rohdaten!BF4 -> 45° left | AG5: =Rohdaten!BH4 -> 40° left | AH5: =Rohdaten!BJ4 -> 35° left | AI5: =Rohdaten!BL4 -> 30° left | AJ5: =Rohdaten!BN4 -> 25° left | AK5: =Rohdaten!BP4 -> 20° left | AL5: =Rohdaten!BR4 -> 15° left | AM5: =Rohdaten!BT4 -> 10° left | AN5: =Rohdaten!BV4 -> 5° left | AO5: =Rohdaten!BX4 -> 0° | AP5: =Rohdaten!BZ4 -> 5° right | AQ5: =Rohdaten!CB4 -> 10° right | AR5: =Rohdaten!CD4 -> 15° right | AS5: =Rohdaten!CF4 -> 20° right | AT5: =Rohdaten!CH4 -> 25° right | AU5: =Rohdaten!CJ4 -> 30° right | AV5: =Rohdaten!CL4 -> 35° right | AW5: =Rohdaten!CN4 -> 40° right | AX5: =Rohdaten!CP4 -> 45° right | AY5: =Rohdaten!CR4 -> 50° right | AZ5: =Rohdaten!CT4 -> 55° right | BA5: =Rohdaten!CV4 -> 60° right | BB5: =Rohdaten!CX4 -> 65° right | BC5: =Rohdaten!CZ4 -> 70° right | BD5: =Rohdaten!DB4 -> 75° right | BE5: =Rohdaten!DD4 -> 80° right | BF5: =Rohdaten!DF4 -> 85° right | BG5: =Rohdaten!DH4 -> 90° right | BH5: =Rohdaten!DJ4 -> 95° right | BI5: =Rohdaten!DL4 -> 100° right | BJ5: =Rohdaten!DN4 -> 105° right | BK5: =Rohdaten!DP4 -> 110° right | BL5: =Rohdaten!DR4 -> 115° right | BM5: =Rohdaten!DT4 -> 120° right | BN5: =Rohdaten!DV4 -> 125° right | BO5: =Rohdaten!DX4 -> 130° right | BP5: =Rohdaten!DZ4 -> 135° right | BQ5: =Rohdaten!EB4 -> 140° right | BR5: =Rohdaten!ED4 -> 145° right | BS5: =Rohdaten!EF4 -> 150° right | BT5: =Rohdaten!EH4 -> 155° right | BU5: =Rohdaten!EJ4 -> 160° right | BV5: =Rohdaten!EL4 -> 165° right | BW5: =Rohdaten!EN4 -> 170° right | BX5: =Rohdaten!EP4 -> 175° right | BY5: =Rohdaten!ER4 -> 180° right
D6: =Rohdaten!A7 -> 20 | E6: =Rohdaten!D7 -> 49.639 | F6: =Rohdaten!F7 -> 49.64 | G6: =Rohdaten!H7 -> 49.642 | H6: =Rohdaten!J7 -> 49.643 | I6: =Rohdaten!L7 -> 49.645 | J6: =Rohdaten!N7 -> 49.646 | K6: =Rohdaten!P7 -> 49.648 | L6: =Rohdaten!R7 -> 49.648 | M6: =Rohdaten!T7 -> 49.648 | N6: =Rohdaten!V7 -> 49.648 | O6: =Rohdaten!X7 -> 49.648 | P6: =Rohdaten!Z7 -> 49.648 | Q6: =Rohdaten!AB7 -> 49.648 | R6: =Rohdaten!AD7 -> 49.648 | S6: =Rohdaten!AF7 -> 49.647 | T6: =Rohdaten!AH7 -> 49.647 | U6: =Rohdaten!AJ7 -> 49.647 | V6: =Rohdaten!AL7 -> 49.647 | W6: =Rohdaten!AN7 -> 49.648 | X6: =Rohdaten!AP7 -> 49.639 | Y6: =Rohdaten!AR7 -> 49.64 | Z6: =Rohdaten!AT7 -> 49.641 | AA6: =Rohdaten!AV7 -> 49.642 | AB6: =Rohdaten!AX7 -> 49.644 | AC6: =Rohdaten!AZ7 -> 49.646 | AD6: =Rohdaten!BB7 -> 49.648 | AE6: =Rohdaten!BD7 -> 49.651 | AF6: =Rohdaten!BF7 -> 49.651 | AG6: =Rohdaten!BH7 -> 49.65 | AH6: =Rohdaten!BJ7 -> 49.651 | AI6: =Rohdaten!BL7 -> 49.653 | AJ6: =Rohdaten!BN7 -> 49.662 | AK6: =Rohdaten!BP7 -> 49.652 | AL6: =Rohdaten!BR7 -> 49.653 | AM6: =Rohdaten!BT7 -> 49.656 | AN6: =Rohdaten!BV7 -> 49.656 | AO6: =Rohdaten!BX7 -> 49.657 | AP6: =Rohdaten!BZ7 -> 49.656 | AQ6: =Rohdaten!CB7 -> 49.656 | AR6: =Rohdaten!CD7 -> 49.653 | AS6: =Rohdaten!CF7 -> 49.652 | AT6: =Rohdaten!CH7 -> 49.662 | AU6: =Rohdaten!CJ7 -> 49.653 | AV6: =Rohdaten!CL7 -> 49.651 | AW6: =Rohdaten!CN7 -> 49.65 | AX6: =Rohdaten!CP7 -> 49.651 | AY6: =Rohdaten!CR7 -> 49.651 | AZ6: =Rohdaten!CT7 -> 49.648 | BA6: =Rohdaten!CV7 -> 49.646 | BB6: =Rohdaten!CX7 -> 49.644 | BC6: =Rohdaten!CZ7 -> 49.642 | BD6: =Rohdaten!DB7 -> 49.641 | BE6: =Rohdaten!DD7 -> 49.64 | BF6: =Rohdaten!DF7 -> 49.639 | BG6: =Rohdaten!DH7 -> 49.648 | BH6: =Rohdaten!DJ7 -> 49.647 | BI6: =Rohdaten!DL7 -> 49.647 | BJ6: =Rohdaten!DN7 -> 49.647 | BK6: =Rohdaten!DP7 -> 49.647 | BL6: =Rohdaten!DR7 -> 49.648 | BM6: =Rohdaten!DT7 -> 49.648 | BN6: =Rohdaten!DV7 -> 49.648 | BO6: =Rohdaten!DX7 -> 49.648 | BP6: =Rohdaten!DZ7 -> 49.648 | BQ6: =Rohdaten!EB7 -> 49.648 | BR6: =Rohdaten!ED7 -> 49.648 | BS6: =Rohdaten!EF7 -> 49.648 | BT6: =Rohdaten!EH7 -> 49.646 | BU6: =Rohdaten!EJ7 -> 49.645 | BV6: =Rohdaten!EL7 -> 49.643 | BW6: =Rohdaten!EN7 -> 49.642 | BX6: =Rohdaten!EP7 -> 49.64 | BY6: =Rohdaten!ER7 -> 49.639
D7: =Rohdaten!A8 -> 20.563 | E7: =Rohdaten!D8 -> 50.387 | F7: =Rohdaten!F8 -> 50.388 | G7: =Rohdaten!H8 -> 50.389 | H7: =Rohdaten!J8 -> 50.391 | I7: =Rohdaten!L8 -> 50.392 | J7: =Rohdaten!N8 -> 50.394 | K7: =Rohdaten!P8 -> 50.396 | L7: =Rohdaten!R8 -> 50.396 | M7: =Rohdaten!T8 -> 50.395 | N7: =Rohdaten!V8 -> 50.395 | O7: =Rohdaten!X8 -> 50.395 | P7: =Rohdaten!Z8 -> 50.396 | Q7: =Rohdaten!AB8 -> 50.396 | R7: =Rohdaten!AD8 -> 50.395 | S7: =Rohdaten!AF8 -> 50.395 | T7: =Rohdaten!AH8 -> 50.395 | U7: =Rohdaten!AJ8 -> 50.395 | V7: =Rohdaten!AL8 -> 50.395 | W7: =Rohdaten!AN8 -> 50.395 | X7: =Rohdaten!AP8 -> 50.387 | Y7: =Rohdaten!AR8 -> 50.388 | Z7: =Rohdaten!AT8 -> 50.389 | AA7: =Rohdaten!AV8 -> 50.39 | AB7: =Rohdaten!AX8 -> 50.392 | AC7: =Rohdaten!AZ8 -> 50.394 | AD7: =Rohdaten!BB8 -> 50.396 | AE7: =Rohdaten!BD8 -> 50.399 | AF7: =Rohdaten!BF8 -> 50.4 | AG7: =Rohdaten!BH8 -> 50.399 | AH7: =Rohdaten!BJ8 -> 50.4 | AI7: =Rohdaten!BL8 -> 50.402 | AJ7: =Rohdaten!BN8 -> 50.41 | AK7: =Rohdaten!BP8 -> 50.401 | AL7: =Rohdaten!BR8 -> 50.402 | AM7: =Rohdaten!BT8 -> 50.404 | AN7: =Rohdaten!BV8 -> 50.405 | AO7: =Rohdaten!BX8 -> 50.405 | AP7: =Rohdaten!BZ8 -> 50.405 | AQ7: =Rohdaten!CB8 -> 50.404 | AR7: =Rohdaten!CD8 -> 50.402 | AS7: =Rohdaten!CF8 -> 50.401 | AT7: =Rohdaten!CH8 -> 50.41 | AU7: =Rohdaten!CJ8 -> 50.402 | AV7: =Rohdaten!CL8 -> 50.4 | AW7: =Rohdaten!CN8 -> 50.399 | AX7: =Rohdaten!CP8 -> 50.4 | AY7: =Rohdaten!CR8 -> 50.399 | AZ7: =Rohdaten!CT8 -> 50.396 | BA7: =Rohdaten!CV8 -> 50.394 | BB7: =Rohdaten!CX8 -> 50.392 | BC7: =Rohdaten!CZ8 -> 50.39 | BD7: =Rohdaten!DB8 -> 50.389 | BE7: =Rohdaten!DD8 -> 50.388 | BF7: =Rohdaten!DF8 -> 50.387 | BG7: =Rohdaten!DH8 -> 50.395 | BH7: =Rohdaten!DJ8 -> 50.395 | BI7: =Rohdaten!DL8 -> 50.395 | BJ7: =Rohdaten!DN8 -> 50.395 | BK7: =Rohdaten!DP8 -> 50.395 | BL7: =Rohdaten!DR8 -> 50.395 | BM7: =Rohdaten!DT8 -> 50.396 | BN7: =Rohdaten!DV8 -> 50.396 | BO7: =Rohdaten!DX8 -> 50.395 | BP7: =Rohdaten!DZ8 -> 50.395 | BQ7: =Rohdaten!EB8 -> 50.395 | BR7: =Rohdaten!ED8 -> 50.396 | BS7: =Rohdaten!EF8 -> 50.396 | BT7: =Rohdaten!EH8 -> 50.394 | BU7: =Rohdaten!EJ8 -> 50.392 | BV7: =Rohdaten!EL8 -> 50.391 | BW7: =Rohdaten!EN8 -> 50.389 | BX7: =Rohdaten!EP8 -> 50.388 | BY7: =Rohdaten!ER8 -> 50.387
D8: =Rohdaten!A9 -> 21.141 | E8: =Rohdaten!D9 -> 51.135 | F8: =Rohdaten!F9 -> 51.137 | G8: =Rohdaten!H9 -> 51.138 | H8: =Rohdaten!J9 -> 51.14 | I8: =Rohdaten!L9 -> 51.141 | J8: =Rohdaten!N9 -> 51.143 | K8: =Rohdaten!P9 -> 51.145 | L8: =Rohdaten!R9 -> 51.144 | M8: =Rohdaten!T9 -> 51.144 | N8: =Rohdaten!V9 -> 51.144 | O8: =Rohdaten!X9 -> 51.144 | P8: =Rohdaten!Z9 -> 51.144 | Q8: =Rohdaten!AB9 -> 51.145 | R8: =Rohdaten!AD9 -> 51.144 | S8: =Rohdaten!AF9 -> 51.144 | T8: =Rohdaten!AH9 -> 51.144 | U8: =Rohdaten!AJ9 -> 51.144 | V8: =Rohdaten!AL9 -> 51.144 | W8: =Rohdaten!AN9 -> 51.144 | X8: =Rohdaten!AP9 -> 51.136 | Y8: =Rohdaten!AR9 -> 51.137 | Z8: =Rohdaten!AT9 -> 51.138 | AA8: =Rohdaten!AV9 -> 51.14 | AB8: =Rohdaten!AX9 -> 51.141 | AC8: =Rohdaten!AZ9 -> 51.143 | AD8: =Rohdaten!BB9 -> 51.146 | AE8: =Rohdaten!BD9 -> 51.149 | AF8: =Rohdaten!BF9 -> 51.149 | AG8: =Rohdaten!BH9 -> 51.148 | AH8: =Rohdaten!BJ9 -> 51.149 | AI8: =Rohdaten!BL9 -> 51.152 | AJ8: =Rohdaten!BN9 -> 51.16 | AK8: =Rohdaten!BP9 -> 51.151 | AL8: =Rohdaten!BR9 -> 51.152 | AM8: =Rohdaten!BT9 -> 51.154 | AN8: =Rohdaten!BV9 -> 51.154 | AO8: =Rohdaten!BX9 -> 51.155 | AP8: =Rohdaten!BZ9 -> 51.154 | AQ8: =Rohdaten!CB9 -> 51.154 | AR8: =Rohdaten!CD9 -> 51.152 | AS8: =Rohdaten!CF9 -> 51.151 | AT8: =Rohdaten!CH9 -> 51.16 | AU8: =Rohdaten!CJ9 -> 51.152 | AV8: =Rohdaten!CL9 -> 51.149 | AW8: =Rohdaten!CN9 -> 51.148 | AX8: =Rohdaten!CP9 -> 51.149 | AY8: =Rohdaten!CR9 -> 51.149 | AZ8: =Rohdaten!CT9 -> 51.146 | BA8: =Rohdaten!CV9 -> 51.143 | BB8: =Rohdaten!CX9 -> 51.141 | BC8: =Rohdaten!CZ9 -> 51.14 | BD8: =Rohdaten!DB9 -> 51.138 | BE8: =Rohdaten!DD9 -> 51.137 | BF8: =Rohdaten!DF9 -> 51.136 | BG8: =Rohdaten!DH9 -> 51.144 | BH8: =Rohdaten!DJ9 -> 51.144 | BI8: =Rohdaten!DL9 -> 51.144 | BJ8: =Rohdaten!DN9 -> 51.144 | BK8: =Rohdaten!DP9 -> 51.144 | BL8: =Rohdaten!DR9 -> 51.144 | BM8: =Rohdaten!DT9 -> 51.145 | BN8: =Rohdaten!DV9 -> 51.144 | BO8: =Rohdaten!DX9 -> 51.144 | BP8: =Rohdaten!DZ9 -> 51.144 | BQ8: =Rohdaten!EB9 -> 51.144 | BR8: =Rohdaten!ED9 -> 51.144 | BS8: =Rohdaten!EF9 -> 51.145 | BT8: =Rohdaten!EH9 -> 51.143 | BU8: =Rohdaten!EJ9 -> 51.141 | BV8: =Rohdaten!EL9 -> 51.14 | BW8: =Rohdaten!EN9 -> 51.138 | BX8: =Rohdaten!EP9 -> 51.137 | BY8: =Rohdaten!ER9 -> 51.135
D9: =Rohdaten!A10 -> 21.736 | E9: =Rohdaten!D10 -> 51.885 | F9: =Rohdaten!F10 -> 51.887 | G9: =Rohdaten!H10 -> 51.888 | H9: =Rohdaten!J10 -> 51.89 | I9: =Rohdaten!L10 -> 51.891 | J9: =Rohdaten!N10 -> 51.893 | K9: =Rohdaten!P10 -> 51.895 | L9: =Rohdaten!R10 -> 51.894 | M9: =Rohdaten!T10 -> 51.894 | N9: =Rohdaten!V10 -> 51.894 | O9: =Rohdaten!X10 -> 51.894 | P9: =Rohdaten!Z10 -> 51.894 | Q9: =Rohdaten!AB10 -> 51.895 | R9: =Rohdaten!AD10 -> 51.894 | S9: =Rohdaten!AF10 -> 51.894 | T9: =Rohdaten!AH10 -> 51.894 | U9: =Rohdaten!AJ10 -> 51.894 | V9: =Rohdaten!AL10 -> 51.894 | W9: =Rohdaten!AN10 -> 51.894 | X9: =Rohdaten!AP10 -> 51.886 | Y9: =Rohdaten!AR10 -> 51.887 | Z9: =Rohdaten!AT10 -> 51.888 | AA9: =Rohdaten!AV10 -> 51.89 | AB9: =Rohdaten!AX10 -> 51.891 | AC9: =Rohdaten!AZ10 -> 51.893 | AD9: =Rohdaten!BB10 -> 51.896 | AE9: =Rohdaten!BD10 -> 51.899 | AF9: =Rohdaten!BF10 -> 51.9 | AG9: =Rohdaten!BH10 -> 51.899 | AH9: =Rohdaten!BJ10 -> 51.9 | AI9: =Rohdaten!BL10 -> 51.903 | AJ9: =Rohdaten!BN10 -> 51.911 | AK9: =Rohdaten!BP10 -> 51.902 | AL9: =Rohdaten!BR10 -> 51.903 | AM9: =Rohdaten!BT10 -> 51.905 | AN9: =Rohdaten!BV10 -> 51.905 | AO9: =Rohdaten!BX10 -> 51.906 | AP9: =Rohdaten!BZ10 -> 51.905 | AQ9: =Rohdaten!CB10 -> 51.905 | AR9: =Rohdaten!CD10 -> 51.903 | AS9: =Rohdaten!CF10 -> 51.902 | AT9: =Rohdaten!CH10 -> 51.911 | AU9: =Rohdaten!CJ10 -> 51.903 | AV9: =Rohdaten!CL10 -> 51.9 | AW9: =Rohdaten!CN10 -> 51.899 | AX9: =Rohdaten!CP10 -> 51.9 | AY9: =Rohdaten!CR10 -> 51.899 | AZ9: =Rohdaten!CT10 -> 51.896 | BA9: =Rohdaten!CV10 -> 51.893 | BB9: =Rohdaten!CX10 -> 51.891 | BC9: =Rohdaten!CZ10 -> 51.89 | BD9: =Rohdaten!DB10 -> 51.888 | BE9: =Rohdaten!DD10 -> 51.887 | BF9: =Rohdaten!DF10 -> 51.886 | BG9: =Rohdaten!DH10 -> 51.894 | BH9: =Rohdaten!DJ10 -> 51.894 | BI9: =Rohdaten!DL10 -> 51.894 | BJ9: =Rohdaten!DN10 -> 51.894 | BK9: =Rohdaten!DP10 -> 51.894 | BL9: =Rohdaten!DR10 -> 51.894 | BM9: =Rohdaten!DT10 -> 51.895 | BN9: =Rohdaten!DV10 -> 51.894 | BO9: =Rohdaten!DX10 -> 51.894 | BP9: =Rohdaten!DZ10 -> 51.894 | BQ9: =Rohdaten!EB10 -> 51.894 | BR9: =Rohdaten!ED10 -> 51.894 | BS9: =Rohdaten!EF10 -> 51.895 | BT9: =Rohdaten!EH10 -> 51.893 | BU9: =Rohdaten!EJ10 -> 51.891 | BV9: =Rohdaten!EL10 -> 51.89 | BW9: =Rohdaten!EN10 -> 51.888 | BX9: =Rohdaten!EP10 -> 51.887 | BY9: =Rohdaten!ER10 -> 51.885
D10: =Rohdaten!A11 -> 22.347 | E10: =Rohdaten!D11 -> 52.637 | F10: =Rohdaten!F11 -> 52.638 | G10: =Rohdaten!H11 -> 52.639 | H10: =Rohdaten!J11 -> 52.641 | I10: =Rohdaten!L11 -> 52.642 | J10: =Rohdaten!N11 -> 52.644 | K10: =Rohdaten!P11 -> 52.646 | L10: =Rohdaten!R11 -> 52.646 | M10: =Rohdaten!T11 -> 52.645 | N10: =Rohdaten!V11 -> 52.645 | O10: =Rohdaten!X11 -> 52.645 | P10: =Rohdaten!Z11 -> 52.646 | Q10: =Rohdaten!AB11 -> 52.646 | R10: =Rohdaten!AD11 -> 52.645 | S10: =Rohdaten!AF11 -> 52.645 | T10: =Rohdaten!AH11 -> 52.645 | U10: =Rohdaten!AJ11 -> 52.645 | V10: =Rohdaten!AL11 -> 52.645 | W10: =Rohdaten!AN11 -> 52.645 | X10: =Rohdaten!AP11 -> 52.637 | Y10: =Rohdaten!AR11 -> 52.638 | Z10: =Rohdaten!AT11 -> 52.64 | AA10: =Rohdaten!AV11 -> 52.641 | AB10: =Rohdaten!AX11 -> 52.643 | AC10: =Rohdaten!AZ11 -> 52.645 | AD10: =Rohdaten!BB11 -> 52.648 | AE10: =Rohdaten!BD11 -> 52.651 | AF10: =Rohdaten!BF11 -> 52.652 | AG10: =Rohdaten!BH11 -> 52.651 | AH10: =Rohdaten!BJ11 -> 52.652 | AI10: =Rohdaten!BL11 -> 52.655 | AJ10: =Rohdaten!BN11 -> 52.663 | AK10: =Rohdaten!BP11 -> 52.654 | AL10: =Rohdaten!BR11 -> 52.655 | AM10: =Rohdaten!BT11 -> 52.657 | AN10: =Rohdaten!BV11 -> 52.658 | AO10: =Rohdaten!BX11 -> 52.659 | AP10: =Rohdaten!BZ11 -> 52.658 | AQ10: =Rohdaten!CB11 -> 52.657 | AR10: =Rohdaten!CD11 -> 52.655 | AS10: =Rohdaten!CF11 -> 52.654 | AT10: =Rohdaten!CH11 -> 52.663 | AU10: =Rohdaten!CJ11 -> 52.655 | AV10: =Rohdaten!CL11 -> 52.652 | AW10: =Rohdaten!CN11 -> 52.651 | AX10: =Rohdaten!CP11 -> 52.652 | AY10: =Rohdaten!CR11 -> 52.651 | AZ10: =Rohdaten!CT11 -> 52.648 | BA10: =Rohdaten!CV11 -> 52.645 | BB10: =Rohdaten!CX11 -> 52.643 | BC10: =Rohdaten!CZ11 -> 52.641 | BD10: =Rohdaten!DB11 -> 52.64 | BE10: =Rohdaten!DD11 -> 52.638 | BF10: =Rohdaten!DF11 -> 52.637 | BG10: =Rohdaten!DH11 -> 52.645 | BH10: =Rohdaten!DJ11 -> 52.645 | BI10: =Rohdaten!DL11 -> 52.645 | BJ10: =Rohdaten!DN11 -> 52.645 | BK10: =Rohdaten!DP11 -> 52.645 | BL10: =Rohdaten!DR11 -> 52.645 | BM10: =Rohdaten!DT11 -> 52.646 | BN10: =Rohdaten!DV11 -> 52.646 | BO10: =Rohdaten!DX11 -> 52.645 | BP10: =Rohdaten!DZ11 -> 52.645 | BQ10: =Rohdaten!EB11 -> 52.645 | BR10: =Rohdaten!ED11 -> 52.646 | BS10: =Rohdaten!EF11 -> 52.646 | BT10: =Rohdaten!EH11 -> 52.644 | BU10: =Rohdaten!EJ11 -> 52.642 | BV10: =Rohdaten!EL11 -> 52.641 | BW10: =Rohdaten!EN11 -> 52.639 | BX10: =Rohdaten!EP11 -> 52.638 | BY10: =Rohdaten!ER11 -> 52.637
D11: =Rohdaten!A12 -> 22.976 | E11: =Rohdaten!D12 -> 53.389 | F11: =Rohdaten!F12 -> 53.39 | G11: =Rohdaten!H12 -> 53.392 | H11: =Rohdaten!J12 -> 53.393 | I11: =Rohdaten!L12 -> 53.395 | J11: =Rohdaten!N12 -> 53.396 | K11: =Rohdaten!P12 -> 53.398 | L11: =Rohdaten!R12 -> 53.398 | M11: =Rohdaten!T12 -> 53.398 | N11: =Rohdaten!V12 -> 53.398 | O11: =Rohdaten!X12 -> 53.398 | P11: =Rohdaten!Z12 -> 53.398 | Q11: =Rohdaten!AB12 -> 53.398 | R11: =Rohdaten!AD12 -> 53.398 | S11: =Rohdaten!AF12 -> 53.397 | T11: =Rohdaten!AH12 -> 53.397 | U11: =Rohdaten!AJ12 -> 53.397 | V11: =Rohdaten!AL12 -> 53.397 | W11: =Rohdaten!AN12 -> 53.398 | X11: =Rohdaten!AP12 -> 53.39 | Y11: =Rohdaten!AR12 -> 53.39 | Z11: =Rohdaten!AT12 -> 53.392 | AA11: =Rohdaten!AV12 -> 53.394 | AB11: =Rohdaten!AX12 -> 53.396 | AC11: =Rohdaten!AZ12 -> 53.398 | AD11: =Rohdaten!BB12 -> 53.401 | AE11: =Rohdaten!BD12 -> 53.404 | AF11: =Rohdaten!BF12 -> 53.405 | AG11: =Rohdaten!BH12 -> 53.404 | AH11: =Rohdaten!BJ12 -> 53.405 | AI11: =Rohdaten!BL12 -> 53.408 | AJ11: =Rohdaten!BN12 -> 53.416 | AK11: =Rohdaten!BP12 -> 53.407 | AL11: =Rohdaten!BR12 -> 53.408 | AM11: =Rohdaten!BT12 -> 53.411 | AN11: =Rohdaten!BV12 -> 53.411 | AO11: =Rohdaten!BX12 -> 53.412 | AP11: =Rohdaten!BZ12 -> 53.411 | AQ11: =Rohdaten!CB12 -> 53.411 | AR11: =Rohdaten!CD12 -> 53.408 | AS11: =Rohdaten!CF12 -> 53.407 | AT11: =Rohdaten!CH12 -> 53.416 | AU11: =Rohdaten!CJ12 -> 53.408 | AV11: =Rohdaten!CL12 -> 53.405 | AW11: =Rohdaten!CN12 -> 53.404 | AX11: =Rohdaten!CP12 -> 53.405 | AY11: =Rohdaten!CR12 -> 53.404 | AZ11: =Rohdaten!CT12 -> 53.401 | BA11: =Rohdaten!CV12 -> 53.398 | BB11: =Rohdaten!CX12 -> 53.396 | BC11: =Rohdaten!CZ12 -> 53.394 | BD11: =Rohdaten!DB12 -> 53.392 | BE11: =Rohdaten!DD12 -> 53.39 | BF11: =Rohdaten!DF12 -> 53.39 | BG11: =Rohdaten!DH12 -> 53.398 | BH11: =Rohdaten!DJ12 -> 53.397 | BI11: =Rohdaten!DL12 -> 53.397 | BJ11: =Rohdaten!DN12 -> 53.397 | BK11: =Rohdaten!DP12 -> 53.397 | BL11: =Rohdaten!DR12 -> 53.398 | BM11: =Rohdaten!DT12 -> 53.398 | BN11: =Rohdaten!DV12 -> 53.398 | BO11: =Rohdaten!DX12 -> 53.398 | BP11: =Rohdaten!DZ12 -> 53.398 | BQ11: =Rohdaten!EB12 -> 53.398 | BR11: =Rohdaten!ED12 -> 53.398 | BS11: =Rohdaten!EF12 -> 53.398 | BT11: =Rohdaten!EH12 -> 53.396 | BU11: =Rohdaten!EJ12 -> 53.395 | BV11: =Rohdaten!EL12 -> 53.393 | BW11: =Rohdaten!EN12 -> 53.392 | BX11: =Rohdaten!EP12 -> 53.39 | BY11: =Rohdaten!ER12 -> 53.389
D12: =Rohdaten!A13 -> 23.622 | E12: =Rohdaten!D13 -> 54.142 | F12: =Rohdaten!F13 -> 54.144 | G12: =Rohdaten!H13 -> 54.145 | H12: =Rohdaten!J13 -> 54.147 | I12: =Rohdaten!L13 -> 54.148 | J12: =Rohdaten!N13 -> 54.15 | K12: =Rohdaten!P13 -> 54.151 | L12: =Rohdaten!R13 -> 54.151 | M12: =Rohdaten!T13 -> 54.151 | N12: =Rohdaten!V13 -> 54.151 | O12: =Rohdaten!X13 -> 54.151 | P12: =Rohdaten!Z13 -> 54.151 | Q12: =Rohdaten!AB13 -> 54.151 | R12: =Rohdaten!AD13 -> 54.151 | S12: =Rohdaten!AF13 -> 54.151 | T12: =Rohdaten!AH13 -> 54.151 | U12: =Rohdaten!AJ13 -> 54.151 | V12: =Rohdaten!AL13 -> 54.151 | W12: =Rohdaten!AN13 -> 54.151 | X12: =Rohdaten!AP13 -> 54.143 | Y12: =Rohdaten!AR13 -> 54.144 | Z12: =Rohdaten!AT13 -> 54.146 | AA12: =Rohdaten!AV13 -> 54.148 | AB12: =Rohdaten!AX13 -> 54.149 | AC12: =Rohdaten!AZ13 -> 54.152 | AD12: =Rohdaten!BB13 -> 54.155 | AE12: =Rohdaten!BD13 -> 54.159 | AF12: =Rohdaten!BF13 -> 54.16 | AG12: =Rohdaten!BH13 -> 54.158 | AH12: =Rohdaten!BJ13 -> 54.159 | AI12: =Rohdaten!BL13 -> 54.162 | AJ12: =Rohdaten!BN13 -> 54.171 | AK12: =Rohdaten!BP13 -> 54.161 | AL12: =Rohdaten!BR13 -> 54.163 | AM12: =Rohdaten!BT13 -> 54.166 | AN12: =Rohdaten!BV13 -> 54.166 | AO12: =Rohdaten!BX13 -> 54.167 | AP12: =Rohdaten!BZ13 -> 54.166 | AQ12: =Rohdaten!CB13 -> 54.166 | AR12: =Rohdaten!CD13 -> 54.163 | AS12: =Rohdaten!CF13 -> 54.161 | AT12: =Rohdaten!CH13 -> 54.171 | AU12: =Rohdaten!CJ13 -> 54.162 | AV12: =Rohdaten!CL13 -> 54.159 | AW12: =Rohdaten!CN13 -> 54.158 | AX12: =Rohdaten!CP13 -> 54.16 | AY12: =Rohdaten!CR13 -> 54.159 | AZ12: =Rohdaten!CT13 -> 54.155 | BA12: =Rohdaten!CV13 -> 54.152 | BB12: =Rohdaten!CX13 -> 54.149 | BC12: =Rohdaten!CZ13 -> 54.148 | BD12: =Rohdaten!DB13 -> 54.146 | BE12: =Rohdaten!DD13 -> 54.144 | BF12: =Rohdaten!DF13 -> 54.143 | BG12: =Rohdaten!DH13 -> 54.151 | BH12: =Rohdaten!DJ13 -> 54.151 | BI12: =Rohdaten!DL13 -> 54.151 | BJ12: =Rohdaten!DN13 -> 54.151 | BK12: =Rohdaten!DP13 -> 54.151 | BL12: =Rohdaten!DR13 -> 54.151 | BM12: =Rohdaten!DT13 -> 54.151 | BN12: =Rohdaten!DV13 -> 54.151 | BO12: =Rohdaten!DX13 -> 54.151 | BP12: =Rohdaten!DZ13 -> 54.151 | BQ12: =Rohdaten!EB13 -> 54.151 | BR12: =Rohdaten!ED13 -> 54.151 | BS12: =Rohdaten!EF13 -> 54.151 | BT12: =Rohdaten!EH13 -> 54.15 | BU12: =Rohdaten!EJ13 -> 54.148 | BV12: =Rohdaten!EL13 -> 54.147 | BW12: =Rohdaten!EN13 -> 54.145 | BX12: =Rohdaten!EP13 -> 54.144 | BY12: =Rohdaten!ER13 -> 54.142
D13: =Rohdaten!A14 -> 24.287 | E13: =Rohdaten!D14 -> 54.897 | F13: =Rohdaten!F14 -> 54.898 | G13: =Rohdaten!H14 -> 54.9 | H13: =Rohdaten!J14 -> 54.901 | I13: =Rohdaten!L14 -> 54.903 | J13: =Rohdaten!N14 -> 54.904 | K13: =Rohdaten!P14 -> 54.906 | L13: =Rohdaten!R14 -> 54.906 | M13: =Rohdaten!T14 -> 54.906 | N13: =Rohdaten!V14 -> 54.906 | O13: =Rohdaten!X14 -> 54.906 | P13: =Rohdaten!Z14 -> 54.906 | Q13: =Rohdaten!AB14 -> 54.906 | R13: =Rohdaten!AD14 -> 54.906 | S13: =Rohdaten!AF14 -> 54.905 | T13: =Rohdaten!AH14 -> 54.905 | U13: =Rohdaten!AJ14 -> 54.905 | V13: =Rohdaten!AL14 -> 54.905 | W13: =Rohdaten!AN14 -> 54.906 | X13: =Rohdaten!AP14 -> 54.898 | Y13: =Rohdaten!AR14 -> 54.899 | Z13: =Rohdaten!AT14 -> 54.901 | AA13: =Rohdaten!AV14 -> 54.902 | AB13: =Rohdaten!AX14 -> 54.904 | AC13: =Rohdaten!AZ14 -> 54.907 | AD13: =Rohdaten!BB14 -> 54.911 | AE13: =Rohdaten!BD14 -> 54.914 | AF13: =Rohdaten!BF14 -> 54.915 | AG13: =Rohdaten!BH14 -> 54.914 | AH13: =Rohdaten!BJ14 -> 54.915 | AI13: =Rohdaten!BL14 -> 54.918 | AJ13: =Rohdaten!BN14 -> 54.926 | AK13: =Rohdaten!BP14 -> 54.917 | AL13: =Rohdaten!BR14 -> 54.918 | AM13: =Rohdaten!BT14 -> 54.921 | AN13: =Rohdaten!BV14 -> 54.922 | AO13: =Rohdaten!BX14 -> 54.923 | AP13: =Rohdaten!BZ14 -> 54.922 | AQ13: =Rohdaten!CB14 -> 54.921 | AR13: =Rohdaten!CD14 -> 54.918 | AS13: =Rohdaten!CF14 -> 54.917 | AT13: =Rohdaten!CH14 -> 54.926 | AU13: =Rohdaten!CJ14 -> 54.918 | AV13: =Rohdaten!CL14 -> 54.915 | AW13: =Rohdaten!CN14 -> 54.914 | AX13: =Rohdaten!CP14 -> 54.915 | AY13: =Rohdaten!CR14 -> 54.914 | AZ13: =Rohdaten!CT14 -> 54.911 | BA13: =Rohdaten!CV14 -> 54.907 | BB13: =Rohdaten!CX14 -> 54.904 | BC13: =Rohdaten!CZ14 -> 54.902 | BD13: =Rohdaten!DB14 -> 54.901 | BE13: =Rohdaten!DD14 -> 54.899 | BF13: =Rohdaten!DF14 -> 54.898 | BG13: =Rohdaten!DH14 -> 54.906 | BH13: =Rohdaten!DJ14 -> 54.905 | BI13: =Rohdaten!DL14 -> 54.905 | BJ13: =Rohdaten!DN14 -> 54.905 | BK13: =Rohdaten!DP14 -> 54.905 | BL13: =Rohdaten!DR14 -> 54.906 | BM13: =Rohdaten!DT14 -> 54.906 | BN13: =Rohdaten!DV14 -> 54.906 | BO13: =Rohdaten!DX14 -> 54.906 | BP13: =Rohdaten!DZ14 -> 54.906 | BQ13: =Rohdaten!EB14 -> 54.906 | BR13: =Rohdaten!ED14 -> 54.906 | BS13: =Rohdaten!EF14 -> 54.906 | BT13: =Rohdaten!EH14 -> 54.904 | BU13: =Rohdaten!EJ14 -> 54.903 | BV13: =Rohdaten!EL14 -> 54.901 | BW13: =Rohdaten!EN14 -> 54.9 | BX13: =Rohdaten!EP14 -> 54.898 | BY13: =Rohdaten!ER14 -> 54.897
D14: =Rohdaten!A15 -> 24.97 | E14: =Rohdaten!D15 -> 55.653 | F14: =Rohdaten!F15 -> 55.654 | G14: =Rohdaten!H15 -> 55.656 | H14: =Rohdaten!J15 -> 55.657 | I14: =Rohdaten!L15 -> 55.659 | J14: =Rohdaten!N15 -> 55.66 | K14: =Rohdaten!P15 -> 55.662 | L14: =Rohdaten!R15 -> 55.662 | M14: =Rohdaten!T15 -> 55.662 | N14: =Rohdaten!V15 -> 55.662 | O14: =Rohdaten!X15 -> 55.662 | P14: =Rohdaten!Z15 -> 55.662 | Q14: =Rohdaten!AB15 -> 55.662 | R14: =Rohdaten!AD15 -> 55.661 | S14: =Rohdaten!AF15 -> 55.661 | T14: =Rohdaten!AH15 -> 55.661 | U14: =Rohdaten!AJ15 -> 55.661 | V14: =Rohdaten!AL15 -> 55.661 | W14: =Rohdaten!AN15 -> 55.661 | X14: =Rohdaten!AP15 -> 55.653 | Y14: =Rohdaten!AR15 -> 55.655 | Z14: =Rohdaten!AT15 -> 55.657 | AA14: =Rohdaten!AV15 -> 55.658 | AB14: =Rohdaten!AX15 -> 55.661 | AC14: =Rohdaten!AZ15 -> 55.663 | AD14: =Rohdaten!BB15 -> 55.667 | AE14: =Rohdaten!BD15 -> 55.671 | AF14: =Rohdaten!BF15 -> 55.672 | AG14: =Rohdaten!BH15 -> 55.67 | AH14: =Rohdaten!BJ15 -> 55.672 | AI14: =Rohdaten!BL15 -> 55.675 | AJ14: =Rohdaten!BN15 -> 55.683 | AK14: =Rohdaten!BP15 -> 55.674 | AL14: =Rohdaten!BR15 -> 55.675 | AM14: =Rohdaten!BT15 -> 55.678 | AN14: =Rohdaten!BV15 -> 55.679 | AO14: =Rohdaten!BX15 -> 55.68 | AP14: =Rohdaten!BZ15 -> 55.679 | AQ14: =Rohdaten!CB15 -> 55.678 | AR14: =Rohdaten!CD15 -> 55.675 | AS14: =Rohdaten!CF15 -> 55.674 | AT14: =Rohdaten!CH15 -> 55.683 | AU14: =Rohdaten!CJ15 -> 55.675 | AV14: =Rohdaten!CL15 -> 55.672 | AW14: =Rohdaten!CN15 -> 55.67 | AX14: =Rohdaten!CP15 -> 55.672 | AY14: =Rohdaten!CR15 -> 55.671 | AZ14: =Rohdaten!CT15 -> 55.667 | BA14: =Rohdaten!CV15 -> 55.663 | BB14: =Rohdaten!CX15 -> 55.661 | BC14: =Rohdaten!CZ15 -> 55.658 | BD14: =Rohdaten!DB15 -> 55.657 | BE14: =Rohdaten!DD15 -> 55.655 | BF14: =Rohdaten!DF15 -> 55.653 | BG14: =Rohdaten!DH15 -> 55.661 | BH14: =Rohdaten!DJ15 -> 55.661 | BI14: =Rohdaten!DL15 -> 55.661 | BJ14: =Rohdaten!DN15 -> 55.661 | BK14: =Rohdaten!DP15 -> 55.661 | BL14: =Rohdaten!DR15 -> 55.661 | BM14: =Rohdaten!DT15 -> 55.662 | BN14: =Rohdaten!DV15 -> 55.662 | BO14: =Rohdaten!DX15 -> 55.662 | BP14: =Rohdaten!DZ15 -> 55.662 | BQ14: =Rohdaten!EB15 -> 55.662 | BR14: =Rohdaten!ED15 -> 55.662 | BS14: =Rohdaten!EF15 -> 55.662 | BT14: =Rohdaten!EH15 -> 55.66 | BU14: =Rohdaten!EJ15 -> 55.659 | BV14: =Rohdaten!EL15 -> 55.657 | BW14: =Rohdaten!EN15 -> 55.656 | BX14: =Rohdaten!EP15 -> 55.654 | BY14: =Rohdaten!ER15 -> 55.653
D15: =Rohdaten!A16 -> 25.672 | E15: =Rohdaten!D16 -> 56.409 | F15: =Rohdaten!F16 -> 56.411 | G15: =Rohdaten!H16 -> 56.412 | H15: =Rohdaten!J16 -> 56.414 | I15: =Rohdaten!L16 -> 56.415 | J15: =Rohdaten!N16 -> 56.417 | K15: =Rohdaten!P16 -> 56.419 | L15: =Rohdaten!R16 -> 56.418 | M15: =Rohdaten!T16 -> 56.418 | N15: =Rohdaten!V16 -> 56.418 | O15: =Rohdaten!X16 -> 56.418 | P15: =Rohdaten!Z16 -> 56.418 | Q15: =Rohdaten!AB16 -> 56.419 | R15: =Rohdaten!AD16 -> 56.418 | S15: =Rohdaten!AF16 -> 56.418 | T15: =Rohdaten!AH16 -> 56.418 | U15: =Rohdaten!AJ16 -> 56.418 | V15: =Rohdaten!AL16 -> 56.418 | W15: =Rohdaten!AN16 -> 56.418 | X15: =Rohdaten!AP16 -> 56.41 | Y15: =Rohdaten!AR16 -> 56.411 | Z15: =Rohdaten!AT16 -> 56.414 | AA15: =Rohdaten!AV16 -> 56.416 | AB15: =Rohdaten!AX16 -> 56.418 | AC15: =Rohdaten!AZ16 -> 56.421 | AD15: =Rohdaten!BB16 -> 56.425 | AE15: =Rohdaten!BD16 -> 56.429 | AF15: =Rohdaten!BF16 -> 56.43 | AG15: =Rohdaten!BH16 -> 56.428 | AH15: =Rohdaten!BJ16 -> 56.43 | AI15: =Rohdaten!BL16 -> 56.433 | AJ15: =Rohdaten!BN16 -> 56.441 | AK15: =Rohdaten!BP16 -> 56.432 | AL15: =Rohdaten!BR16 -> 56.433 | AM15: =Rohdaten!BT16 -> 56.437 | AN15: =Rohdaten!BV16 -> 56.437 | AO15: =Rohdaten!BX16 -> 56.438 | AP15: =Rohdaten!BZ16 -> 56.437 | AQ15: =Rohdaten!CB16 -> 56.437 | AR15: =Rohdaten!CD16 -> 56.433 | AS15: =Rohdaten!CF16 -> 56.432 | AT15: =Rohdaten!CH16 -> 56.441 | AU15: =Rohdaten!CJ16 -> 56.433 | AV15: =Rohdaten!CL16 -> 56.43 | AW15: =Rohdaten!CN16 -> 56.428 | AX15: =Rohdaten!CP16 -> 56.43 | AY15: =Rohdaten!CR16 -> 56.429 | AZ15: =Rohdaten!CT16 -> 56.425 | BA15: =Rohdaten!CV16 -> 56.421 | BB15: =Rohdaten!CX16 -> 56.418 | BC15: =Rohdaten!CZ16 -> 56.416 | BD15: =Rohdaten!DB16 -> 56.414 | BE15: =Rohdaten!DD16 -> 56.411 | BF15: =Rohdaten!DF16 -> 56.41 | BG15: =Rohdaten!DH16 -> 56.418 | BH15: =Rohdaten!DJ16 -> 56.418 | BI15: =Rohdaten!DL16 -> 56.418 | BJ15: =Rohdaten!DN16 -> 56.418 | BK15: =Rohdaten!DP16 -> 56.418 | BL15: =Rohdaten!DR16 -> 56.418 | BM15: =Rohdaten!DT16 -> 56.419 | BN15: =Rohdaten!DV16 -> 56.418 | BO15: =Rohdaten!DX16 -> 56.418 | BP15: =Rohdaten!DZ16 -> 56.418 | BQ15: =Rohdaten!EB16 -> 56.418 | BR15: =Rohdaten!ED16 -> 56.418 | BS15: =Rohdaten!EF16 -> 56.419 | BT15: =Rohdaten!EH16 -> 56.417 | BU15: =Rohdaten!EJ16 -> 56.415 | BV15: =Rohdaten!EL16 -> 56.414 | BW15: =Rohdaten!EN16 -> 56.412 | BX15: =Rohdaten!EP16 -> 56.411 | BY15: =Rohdaten!ER16 -> 56.409
D16: =Rohdaten!A17 -> 26.394 | E16: =Rohdaten!D17 -> 57.167 | F16: =Rohdaten!F17 -> 57.169 | G16: =Rohdaten!H17 -> 57.17 | H16: =Rohdaten!J17 -> 57.172 | I16: =Rohdaten!L17 -> 57.173 | J16: =Rohdaten!N17 -> 57.175 | K16: =Rohdaten!P17 -> 57.176 | L16: =Rohdaten!R17 -> 57.176 | M16: =Rohdaten!T17 -> 57.176 | N16: =Rohdaten!V17 -> 57.176 | O16: =Rohdaten!X17 -> 57.176 | P16: =Rohdaten!Z17 -> 57.176 | Q16: =Rohdaten!AB17 -> 57.176 | R16: =Rohdaten!AD17 -> 57.176 | S16: =Rohdaten!AF17 -> 57.176 | T16: =Rohdaten!AH17 -> 57.176 | U16: =Rohdaten!AJ17 -> 57.176 | V16: =Rohdaten!AL17 -> 57.176 | W16: =Rohdaten!AN17 -> 57.176 | X16: =Rohdaten!AP17 -> 57.168 | Y16: =Rohdaten!AR17 -> 57.169 | Z16: =Rohdaten!AT17 -> 57.172 | AA16: =Rohdaten!AV17 -> 57.174 | AB16: =Rohdaten!AX17 -> 57.176 | AC16: =Rohdaten!AZ17 -> 57.179 | AD16: =Rohdaten!BB17 -> 57.183 | AE16: =Rohdaten!BD17 -> 57.188 | AF16: =Rohdaten!BF17 -> 57.189 | AG16: =Rohdaten!BH17 -> 57.187 | AH16: =Rohdaten!BJ17 -> 57.189 | AI16: =Rohdaten!BL17 -> 57.192 | AJ16: =Rohdaten!BN17 -> 57.2 | AK16: =Rohdaten!BP17 -> 57.191 | AL16: =Rohdaten!BR17 -> 57.192 | AM16: =Rohdaten!BT17 -> 57.196 | AN16: =Rohdaten!BV17 -> 57.196 | AO16: =Rohdaten!BX17 -> 57.198 | AP16: =Rohdaten!BZ17 -> 57.196 | AQ16: =Rohdaten!CB17 -> 57.196 | AR16: =Rohdaten!CD17 -> 57.192 | AS16: =Rohdaten!CF17 -> 57.191 | AT16: =Rohdaten!CH17 -> 57.2 | AU16: =Rohdaten!CJ17 -> 57.192 | AV16: =Rohdaten!CL17 -> 57.189 | AW16: =Rohdaten!CN17 -> 57.187 | AX16: =Rohdaten!CP17 -> 57.189 | AY16: =Rohdaten!CR17 -> 57.188 | AZ16: =Rohdaten!CT17 -> 57.183 | BA16: =Rohdaten!CV17 -> 57.179 | BB16: =Rohdaten!CX17 -> 57.176 | BC16: =Rohdaten!CZ17 -> 57.174 | BD16: =Rohdaten!DB17 -> 57.172 | BE16: =Rohdaten!DD17 -> 57.169 | BF16: =Rohdaten!DF17 -> 57.168 | BG16: =Rohdaten!DH17 -> 57.176 | BH16: =Rohdaten!DJ17 -> 57.176 | BI16: =Rohdaten!DL17 -> 57.176 | BJ16: =Rohdaten!DN17 -> 57.176 | BK16: =Rohdaten!DP17 -> 57.176 | BL16: =Rohdaten!DR17 -> 57.176 | BM16: =Rohdaten!DT17 -> 57.176 | BN16: =Rohdaten!DV17 -> 57.176 | BO16: =Rohdaten!DX17 -> 57.176 | BP16: =Rohdaten!DZ17 -> 57.176 | BQ16: =Rohdaten!EB17 -> 57.176 | BR16: =Rohdaten!ED17 -> 57.176 | BS16: =Rohdaten!EF17 -> 57.176 | BT16: =Rohdaten!EH17 -> 57.175 | BU16: =Rohdaten!EJ17 -> 57.173 | BV16: =Rohdaten!EL17 -> 57.172 | BW16: =Rohdaten!EN17 -> 57.17 | BX16: =Rohdaten!EP17 -> 57.169 | BY16: =Rohdaten!ER17 -> 57.167
D17: =Rohdaten!A18 -> 27.137 | E17: =Rohdaten!D18 -> 57.926 | F17: =Rohdaten!F18 -> 57.927 | G17: =Rohdaten!H18 -> 57.929 | H17: =Rohdaten!J18 -> 57.93 | I17: =Rohdaten!L18 -> 57.932 | J17: =Rohdaten!N18 -> 57.933 | K17: =Rohdaten!P18 -> 57.935 | L17: =Rohdaten!R18 -> 57.935 | M17: =Rohdaten!T18 -> 57.935 | N17: =Rohdaten!V18 -> 57.935 | O17: =Rohdaten!X18 -> 57.935 | P17: =Rohdaten!Z18 -> 57.935 | Q17: =Rohdaten!AB18 -> 57.935 | R17: =Rohdaten!AD18 -> 57.935 | S17: =Rohdaten!AF18 -> 57.934 | T17: =Rohdaten!AH18 -> 57.934 | U17: =Rohdaten!AJ18 -> 57.934 | V17: =Rohdaten!AL18 -> 57.934 | W17: =Rohdaten!AN18 -> 57.935 | X17: =Rohdaten!AP18 -> 57.927 | Y17: =Rohdaten!AR18 -> 57.928 | Z17: =Rohdaten!AT18 -> 57.931 | AA17: =Rohdaten!AV18 -> 57.933 | AB17: =Rohdaten!AX18 -> 57.935 | AC17: =Rohdaten!AZ18 -> 57.938 | AD17: =Rohdaten!BB18 -> 57.943 | AE17: =Rohdaten!BD18 -> 57.948 | AF17: =Rohdaten!BF18 -> 57.949 | AG17: =Rohdaten!BH18 -> 57.947 | AH17: =Rohdaten!BJ18 -> 57.949 | AI17: =Rohdaten!BL18 -> 57.952 | AJ17: =Rohdaten!BN18 -> 57.96 | AK17: =Rohdaten!BP18 -> 57.951 | AL17: =Rohdaten!BR18 -> 57.953 | AM17: =Rohdaten!BT18 -> 57.956 | AN17: =Rohdaten!BV18 -> 57.957 | AO17: =Rohdaten!BX18 -> 57.958 | AP17: =Rohdaten!BZ18 -> 57.957 | AQ17: =Rohdaten!CB18 -> 57.956 | AR17: =Rohdaten!CD18 -> 57.953 | AS17: =Rohdaten!CF18 -> 57.951 | AT17: =Rohdaten!CH18 -> 57.96 | AU17: =Rohdaten!CJ18 -> 57.952 | AV17: =Rohdaten!CL18 -> 57.949 | AW17: =Rohdaten!CN18 -> 57.947 | AX17: =Rohdaten!CP18 -> 57.949 | AY17: =Rohdaten!CR18 -> 57.948 | AZ17: =Rohdaten!CT18 -> 57.943 | BA17: =Rohdaten!CV18 -> 57.938 | BB17: =Rohdaten!CX18 -> 57.935 | BC17: =Rohdaten!CZ18 -> 57.933 | BD17: =Rohdaten!DB18 -> 57.931 | BE17: =Rohdaten!DD18 -> 57.928 | BF17: =Rohdaten!DF18 -> 57.927 | BG17: =Rohdaten!DH18 -> 57.935 | BH17: =Rohdaten!DJ18 -> 57.934 | BI17: =Rohdaten!DL18 -> 57.934 | BJ17: =Rohdaten!DN18 -> 57.934 | BK17: =Rohdaten!DP18 -> 57.934 | BL17: =Rohdaten!DR18 -> 57.935 | BM17: =Rohdaten!DT18 -> 57.935 | BN17: =Rohdaten!DV18 -> 57.935 | BO17: =Rohdaten!DX18 -> 57.935 | BP17: =Rohdaten!DZ18 -> 57.935 | BQ17: =Rohdaten!EB18 -> 57.935 | BR17: =Rohdaten!ED18 -> 57.935 | BS17: =Rohdaten!EF18 -> 57.935 | BT17: =Rohdaten!EH18 -> 57.933 | BU17: =Rohdaten!EJ18 -> 57.932 | BV17: =Rohdaten!EL18 -> 57.93 | BW17: =Rohdaten!EN18 -> 57.929 | BX17: =Rohdaten!EP18 -> 57.927 | BY17: =Rohdaten!ER18 -> 57.926
... D255: =Rohdaten!A256 -> 20000 | E255: =Rohdaten!D256 -> 36.009 | F255: =Rohdaten!F256 -> 41.028 | G255: =Rohdaten!H256 -> 44.25 | H255: =Rohdaten!J256 -> 46.609 | I255: =Rohdaten!L256 -> 48.467 | J255: =Rohdaten!N256 -> 49.999 | K255: =Rohdaten!P256 -> 51.301 | L255: =Rohdaten!R256 -> 47.664 | M255: =Rohdaten!T256 -> 42.995 | N255: =Rohdaten!V256 -> 42.91 | O255: =Rohdaten!X256 -> 47.576 | P255: =Rohdaten!Z256 -> 51.238 | Q255: =Rohdaten!AB256 -> 53.924 | R255: =Rohdaten!AD256 -> 47.267 | S255: =Rohdaten!AF256 -> 53.161 | T255: =Rohdaten!AH256 -> 58.501 | U255: =Rohdaten!AJ256 -> 61.922 | V255: =Rohdaten!AL256 -> 64.397 | W255: =Rohdaten!AN256 -> 66.33 | X255: =Rohdaten!AP256 -> 68.896 | Y255: =Rohdaten!AR256 -> 70.547 | Z255: =Rohdaten!AT256 -> 73.829 | AA255: =Rohdaten!AV256 -> 76.832 | AB255: =Rohdaten!AX256 -> 78.858 | AC255: =Rohdaten!AZ256 -> 80.212 | AD255: =Rohdaten!BB256 -> 80.327 | AE255: =Rohdaten!BD256 -> 79.477 | AF255: =Rohdaten!BF256 -> 79.162 | AG255: =Rohdaten!BH256 -> 77.596 | AH255: =Rohdaten!BJ256 -> 77.591 | AI255: =Rohdaten!BL256 -> 76.091 | AJ255: =Rohdaten!BN256 -> 78.706 | AK255: =Rohdaten!BP256 -> 79.576 | AL255: =Rohdaten!BR256 -> 82.26 | AM255: =Rohdaten!BT256 -> 83.104 | AN255: =Rohdaten!BV256 -> 84.699 | AO255: =Rohdaten!BX256 -> 85.85 | AP255: =Rohdaten!BZ256 -> 84.699 | AQ255: =Rohdaten!CB256 -> 83.104 | AR255: =Rohdaten!CD256 -> 82.26 | AS255: =Rohdaten!CF256 -> 79.576 | AT255: =Rohdaten!CH256 -> 78.706 | AU255: =Rohdaten!CJ256 -> 76.091 | AV255: =Rohdaten!CL256 -> 77.591 | AW255: =Rohdaten!CN256 -> 77.596 | AX255: =Rohdaten!CP256 -> 79.162 | AY255: =Rohdaten!CR256 -> 79.477 | AZ255: =Rohdaten!CT256 -> 80.327 | BA255: =Rohdaten!CV256 -> 80.212 | BB255: =Rohdaten!CX256 -> 78.858 | BC255: =Rohdaten!CZ256 -> 76.832 | BD255: =Rohdaten!DB256 -> 73.829 | BE255: =Rohdaten!DD256 -> 70.547 | BF255: =Rohdaten!DF256 -> 68.896 | BG255: =Rohdaten!DH256 -> 66.33 | BH255: =Rohdaten!DJ256 -> 64.397 | BI255: =Rohdaten!DL256 -> 61.922 | BJ255: =Rohdaten!DN256 -> 58.501 | BK255: =Rohdaten!DP256 -> 53.161 | BL255: =Rohdaten!DR256 -> 47.267 | BM255: =Rohdaten!DT256 -> 53.924 | BN255: =Rohdaten!DV256 -> 51.238 | BO255: =Rohdaten!DX256 -> 47.576 | BP255: =Rohdaten!DZ256 -> 42.91 | BQ255: =Rohdaten!EB256 -> 42.996 | BR255: =Rohdaten!ED256 -> 47.664 | BS255: =Rohdaten!EF256 -> 51.301 | BT255: =Rohdaten!EH256 -> 49.999 | BU255: =Rohdaten!EJ256 -> 48.467 | BV255: =Rohdaten!EL256 -> 46.609 | BW255: =Rohdaten!EN256 -> 44.25 | BX255: =Rohdaten!EP256 -> 41.028 | BY255: =Rohdaten!ER256 -> 36.009
